BEGIN:VCALENDAR
VERSION:2.0
PRODID:-//ISKCON DumDum - ECPv6.15.13//NONSGML v1.0//EN
CALSCALE:GREGORIAN
METHOD:PUBLISH
X-WR-CALNAME:ISKCON DumDum
X-ORIGINAL-URL:https://iskcondumdum.com
X-WR-CALDESC:Events for ISKCON DumDum
REFRESH-INTERVAL;VALUE=DURATION:PT1H
X-Robots-Tag:noindex
X-PUBLISHED-TTL:PT1H
BEGIN:VTIMEZONE
TZID:UTC
BEGIN:STANDARD
TZOFFSETFROM:+0000
TZOFFSETTO:+0000
TZNAME:UTC
DTSTART:20240101T000000
END:STANDARD
END:VTIMEZONE
BEGIN:VEVENT
DTSTART;TZID=UTC:20250630T000000
DTEND;TZID=UTC:20250630T000000
DTSTAMP:20260421T170204
CREATED:20251016T214444Z
LAST-MODIFIED:20251017T164114Z
UID:1465-1751241600-1751241600@iskcondumdum.com
SUMMARY:Hera Pancami
DESCRIPTION:Hera Pancami
URL:https://iskcondumdum.com/event/hera-pancami/
CATEGORIES:Festival
END:VEVENT
BEGIN:VEVENT
DTSTART;TZID=UTC:20250627T000000
DTEND;TZID=UTC:20250627T000000
DTSTAMP:20260421T170204
CREATED:20251017T164059Z
LAST-MODIFIED:20251017T164059Z
UID:1893-1750982400-1750982400@iskcondumdum.com
SUMMARY:Disappearance Day of Sri Svarupa Damodara Gosvami
DESCRIPTION:Disappearance Day of Sri Svarupa Damodara Gosvami
URL:https://iskcondumdum.com/event/disappearance-day-of-sri-svarupa-damodara-gosvami/
CATEGORIES:Appearance & Disappearance
END:VEVENT
BEGIN:VEVENT
DTSTART;TZID=UTC:20250627T000000
DTEND;TZID=UTC:20250627T000000
DTSTAMP:20260421T170204
CREATED:20251017T164059Z
LAST-MODIFIED:20251017T164059Z
UID:1894-1750982400-1750982400@iskcondumdum.com
SUMMARY:Disappearance Day of Sri Sivananda Sena
DESCRIPTION:Disappearance Day of Sri Sivananda Sena
URL:https://iskcondumdum.com/event/disappearance-day-of-sri-sivananda-sena/
CATEGORIES:Appearance & Disappearance
END:VEVENT
BEGIN:VEVENT
DTSTART;TZID=UTC:20250627T000000
DTEND;TZID=UTC:20250627T000000
DTSTAMP:20260421T170204
CREATED:20251016T214444Z
LAST-MODIFIED:20251017T164059Z
UID:1462-1750982400-1750982400@iskcondumdum.com
SUMMARY:Ratha Yatra Starts
DESCRIPTION:Ratha Yatra Starts
URL:https://iskcondumdum.com/event/ratha-yatra-starts/
CATEGORIES:Festival
END:VEVENT
BEGIN:VEVENT
DTSTART;TZID=UTC:20250626T000000
DTEND;TZID=UTC:20250626T000000
DTSTAMP:20260421T170204
CREATED:20251016T214444Z
LAST-MODIFIED:20251017T164059Z
UID:1461-1750896000-1750896000@iskcondumdum.com
SUMMARY:Gundica Marjana
DESCRIPTION:Gundica Marjana
URL:https://iskcondumdum.com/event/gundica-marjana/
CATEGORIES:Festival
END:VEVENT
BEGIN:VEVENT
DTSTART;TZID=UTC:20250625T000000
DTEND;TZID=UTC:20250625T000000
DTSTAMP:20260421T170204
CREATED:20251017T164059Z
LAST-MODIFIED:20251017T164059Z
UID:1892-1750809600-1750809600@iskcondumdum.com
SUMMARY:Disappearance Day of Srila Bhaktivinoda Thakura
DESCRIPTION:Disappearance Day of Srila Bhaktivinoda Thakura
URL:https://iskcondumdum.com/event/disappearance-day-of-srila-bhaktivinoda-thakura/
CATEGORIES:Appearance & Disappearance
END:VEVENT
BEGIN:VEVENT
DTSTART;TZID=UTC:20250625T000000
DTEND;TZID=UTC:20250625T000000
DTSTAMP:20260421T170204
CREATED:20251017T164044Z
LAST-MODIFIED:20251017T164044Z
UID:1891-1750809600-1750809600@iskcondumdum.com
SUMMARY:Disappearance Day of Sri Gadadhara Pandita
DESCRIPTION:Disappearance Day of Sri Gadadhara Pandita
URL:https://iskcondumdum.com/event/disappearance-day-of-sri-gadadhara-pandita/
CATEGORIES:Appearance & Disappearance
END:VEVENT
BEGIN:VEVENT
DTSTART;TZID=UTC:20250622T000000
DTEND;TZID=UTC:20250622T000000
DTSTAMP:20260421T170204
CREATED:20251016T214431Z
LAST-MODIFIED:20251017T164044Z
UID:1453-1750550400-1750550400@iskcondumdum.com
SUMMARY:Yogini Ekadasi
DESCRIPTION:Yogini Ekadasi
URL:https://iskcondumdum.com/event/yogini-ekadasi-2/
CATEGORIES:Festival
END:VEVENT
BEGIN:VEVENT
DTSTART;TZID=UTC:20250621T000000
DTEND;TZID=UTC:20250621T000000
DTSTAMP:20260421T170204
CREATED:20251017T164044Z
LAST-MODIFIED:20251017T164044Z
UID:1890-1750464000-1750464000@iskcondumdum.com
SUMMARY:Disappearance Day of Sri Srivasa Pandita
DESCRIPTION:Disappearance Day of Sri Srivasa Pandita
URL:https://iskcondumdum.com/event/disappearance-day-of-sri-srivasa-pandita/
CATEGORIES:Appearance & Disappearance
END:VEVENT
BEGIN:VEVENT
DTSTART;TZID=UTC:20250616T000000
DTEND;TZID=UTC:20250616T000000
DTSTAMP:20260421T170204
CREATED:20251017T164044Z
LAST-MODIFIED:20251017T164044Z
UID:1889-1750032000-1750032000@iskcondumdum.com
SUMMARY:Appearance Day of Sri Vakresvara Pandita
DESCRIPTION:Appearance Day of Sri Vakresvara Pandita
URL:https://iskcondumdum.com/event/appearance-day-of-sri-vakresvara-pandita/
CATEGORIES:Festival
END:VEVENT
BEGIN:VEVENT
DTSTART;TZID=UTC:20250612T000000
DTEND;TZID=UTC:20250612T000000
DTSTAMP:20260421T170204
CREATED:20251017T164044Z
LAST-MODIFIED:20251017T164044Z
UID:1888-1749686400-1749686400@iskcondumdum.com
SUMMARY:Disappearance Day of Sri Syamananda Prabhu
DESCRIPTION:Disappearance Day of Sri Syamananda Prabhu
URL:https://iskcondumdum.com/event/disappearance-day-of-sri-syamananda-prabhu/
CATEGORIES:Appearance & Disappearance
END:VEVENT
BEGIN:VEVENT
DTSTART;TZID=UTC:20250611T000000
DTEND;TZID=UTC:20250611T000000
DTSTAMP:20260421T170204
CREATED:20251017T164029Z
LAST-MODIFIED:20251017T164029Z
UID:1886-1749600000-1749600000@iskcondumdum.com
SUMMARY:Disappearance Day of Sri Mukunda Datta
DESCRIPTION:Disappearance Day of Sri Mukunda Datta
URL:https://iskcondumdum.com/event/disappearance-day-of-sri-mukunda-datta/
CATEGORIES:Appearance & Disappearance
END:VEVENT
BEGIN:VEVENT
DTSTART;TZID=UTC:20250611T000000
DTEND;TZID=UTC:20250611T000000
DTSTAMP:20260421T170204
CREATED:20251017T164029Z
LAST-MODIFIED:20251017T164029Z
UID:1887-1749600000-1749600000@iskcondumdum.com
SUMMARY:Disappearance Day of Sri Sridhara Pandita
DESCRIPTION:Disappearance Day of Sri Sridhara Pandita
URL:https://iskcondumdum.com/event/disappearance-day-of-sri-sridhara-pandita/
CATEGORIES:Appearance & Disappearance
END:VEVENT
BEGIN:VEVENT
DTSTART;TZID=UTC:20250611T000000
DTEND;TZID=UTC:20250611T000000
DTSTAMP:20260421T170204
CREATED:20251016T214427Z
LAST-MODIFIED:20251017T164029Z
UID:1447-1749600000-1749600000@iskcondumdum.com
SUMMARY:Snana Yatra
DESCRIPTION:Snana Yatra
URL:https://iskcondumdum.com/event/snana-yatra/
CATEGORIES:Festival
END:VEVENT
BEGIN:VEVENT
DTSTART;TZID=UTC:20250609T000000
DTEND;TZID=UTC:20250609T000000
DTSTAMP:20260421T170204
CREATED:20251016T214427Z
LAST-MODIFIED:20251017T164029Z
UID:1446-1749427200-1749427200@iskcondumdum.com
SUMMARY:Panihati Cida Dahi Utsava
DESCRIPTION:Panihati Cida Dahi Utsava
URL:https://iskcondumdum.com/event/panihati-cida-dahi-utsava/
CATEGORIES:Festival
END:VEVENT
BEGIN:VEVENT
DTSTART;TZID=UTC:20250607T000000
DTEND;TZID=UTC:20250607T000000
DTSTAMP:20260421T170204
CREATED:20251016T214424Z
LAST-MODIFIED:20251017T164029Z
UID:1445-1749254400-1749254400@iskcondumdum.com
SUMMARY:Pandava Nirjala Mahadvadashi
DESCRIPTION:Pandava Nirjala Mahadvadashi
URL:https://iskcondumdum.com/event/pandava-nirjala-mahadvadashi/
CATEGORIES:Festival
END:VEVENT
BEGIN:VEVENT
DTSTART;TZID=UTC:20250605T000000
DTEND;TZID=UTC:20250605T000000
DTSTAMP:20260421T170204
CREATED:20251017T164014Z
LAST-MODIFIED:20251017T164014Z
UID:1884-1749081600-1749081600@iskcondumdum.com
SUMMARY:Disappearance Day of Sri Baladeva Vidyabhusana
DESCRIPTION:Disappearance Day of Sri Baladeva Vidyabhusana
URL:https://iskcondumdum.com/event/disappearance-day-of-sri-baladeva-vidyabhusana/
CATEGORIES:Appearance & Disappearance
END:VEVENT
BEGIN:VEVENT
DTSTART;TZID=UTC:20250605T000000
DTEND;TZID=UTC:20250605T000000
DTSTAMP:20260421T170204
CREATED:20251017T164014Z
LAST-MODIFIED:20251017T164014Z
UID:1885-1749081600-1749081600@iskcondumdum.com
SUMMARY:Appearance Day of Srimati Gangamata Goswami
DESCRIPTION:Appearance Day of Srimati Gangamata Goswami
URL:https://iskcondumdum.com/event/appearance-day-of-srimati-gangamata-goswami/
CATEGORIES:Festival
END:VEVENT
BEGIN:VEVENT
DTSTART;TZID=UTC:20250605T000000
DTEND;TZID=UTC:20250605T000000
DTSTAMP:20260421T170204
CREATED:20251016T214424Z
LAST-MODIFIED:20251017T164014Z
UID:1442-1749081600-1749081600@iskcondumdum.com
SUMMARY:Ganga Puja
DESCRIPTION:Ganga Puja
URL:https://iskcondumdum.com/event/ganga-puja/
CATEGORIES:Festival
END:VEVENT
BEGIN:VEVENT
DTSTART;TZID=UTC:20250524T000000
DTEND;TZID=UTC:20250524T000000
DTSTAMP:20260421T170204
CREATED:20251017T164014Z
LAST-MODIFIED:20251017T164014Z
UID:1883-1748044800-1748044800@iskcondumdum.com
SUMMARY:Appearance Day of Srila Vrndavana Dasa Thakura
DESCRIPTION:Appearance Day of Srila Vrndavana Dasa Thakura
URL:https://iskcondumdum.com/event/appearance-day-of-srila-vrndavana-dasa-thakura/
CATEGORIES:Festival
END:VEVENT
BEGIN:VEVENT
DTSTART;TZID=UTC:20250523T000000
DTEND;TZID=UTC:20250523T000000
DTSTAMP:20260421T170204
CREATED:20251016T214421Z
LAST-MODIFIED:20251017T164014Z
UID:1440-1747958400-1747958400@iskcondumdum.com
SUMMARY:Apara Ekadasi
DESCRIPTION:Apara Ekadasi
URL:https://iskcondumdum.com/event/apara-ekadasi-2/
CATEGORIES:Festival
END:VEVENT
BEGIN:VEVENT
DTSTART;TZID=UTC:20250517T000000
DTEND;TZID=UTC:20250517T000000
DTSTAMP:20260421T170204
CREATED:20251017T163959Z
LAST-MODIFIED:20251017T163959Z
UID:1882-1747440000-1747440000@iskcondumdum.com
SUMMARY:Disappearance Day of Sri Ramananda Raya
DESCRIPTION:Disappearance Day of Sri Ramananda Raya
URL:https://iskcondumdum.com/event/disappearance-day-of-sri-ramananda-raya/
CATEGORIES:Appearance & Disappearance
END:VEVENT
BEGIN:VEVENT
DTSTART;TZID=UTC:20250514T000000
DTEND;TZID=UTC:20250514T000000
DTSTAMP:20260421T170204
CREATED:20251016T214421Z
LAST-MODIFIED:20251017T163959Z
UID:1438-1747180800-1747180800@iskcondumdum.com
SUMMARY:End of Jala Dana
DESCRIPTION:End of Jala Dana
URL:https://iskcondumdum.com/event/end-of-jala-dana/
CATEGORIES:Festival
END:VEVENT
BEGIN:VEVENT
DTSTART;TZID=UTC:20250512T000000
DTEND;TZID=UTC:20250512T000000
DTSTAMP:20260421T170204
CREATED:20251017T163959Z
LAST-MODIFIED:20251017T163959Z
UID:1879-1747008000-1747008000@iskcondumdum.com
SUMMARY:Appearance Day of Sri Madhavendra Puri
DESCRIPTION:Appearance Day of Sri Madhavendra Puri
URL:https://iskcondumdum.com/event/appearance-day-of-sri-madhavendra-puri/
CATEGORIES:Festival
END:VEVENT
BEGIN:VEVENT
DTSTART;TZID=UTC:20250512T000000
DTEND;TZID=UTC:20250512T000000
DTSTAMP:20260421T170204
CREATED:20251017T163959Z
LAST-MODIFIED:20251017T163959Z
UID:1880-1747008000-1747008000@iskcondumdum.com
SUMMARY:Appearance Day of Sri Srinivasa Acharya
DESCRIPTION:Appearance Day of Sri Srinivasa Acharya
URL:https://iskcondumdum.com/event/appearance-day-of-sri-srinivasa-acharya/
CATEGORIES:Festival
END:VEVENT
BEGIN:VEVENT
DTSTART;TZID=UTC:20250512T000000
DTEND;TZID=UTC:20250512T000000
DTSTAMP:20260421T170204
CREATED:20251017T163959Z
LAST-MODIFIED:20251017T163959Z
UID:1881-1747008000-1747008000@iskcondumdum.com
SUMMARY:Disappearance Day of Sri Paramesvari Dasa Thakura
DESCRIPTION:Disappearance Day of Sri Paramesvari Dasa Thakura
URL:https://iskcondumdum.com/event/disappearance-day-of-sri-paramesvari-dasa-thakura/
CATEGORIES:Appearance & Disappearance
END:VEVENT
BEGIN:VEVENT
DTSTART;TZID=UTC:20250512T000000
DTEND;TZID=UTC:20250512T000000
DTSTAMP:20260421T170204
CREATED:20251017T163944Z
LAST-MODIFIED:20251017T163944Z
UID:1877-1747008000-1747008000@iskcondumdum.com
SUMMARY:Appearance Day of Sri Sri Radha-Ramana Devji
DESCRIPTION:Appearance Day of Sri Sri Radha-Ramana Devji
URL:https://iskcondumdum.com/event/appearance-day-of-sri-sri-radha-ramana-devji/
CATEGORIES:Festival
END:VEVENT
BEGIN:VEVENT
DTSTART;TZID=UTC:20250512T000000
DTEND;TZID=UTC:20250512T000000
DTSTAMP:20260421T170204
CREATED:20251017T163944Z
LAST-MODIFIED:20251017T163944Z
UID:1878-1747008000-1747008000@iskcondumdum.com
SUMMARY:Buddha Purnima - Appearance Day of Lord Buddha
DESCRIPTION:Buddha Purnima – Appearance Day of Lord Buddha
URL:https://iskcondumdum.com/event/buddha-purnima-appearance-day-of-lord-buddha/
CATEGORIES:Festival
END:VEVENT
BEGIN:VEVENT
DTSTART;TZID=UTC:20250512T000000
DTEND;TZID=UTC:20250512T000000
DTSTAMP:20260421T170204
CREATED:20251016T214408Z
LAST-MODIFIED:20251017T163944Z
UID:1429-1747008000-1747008000@iskcondumdum.com
SUMMARY:Krishna Phula Dola\, Salila Vihara
DESCRIPTION:Krishna Phula Dola\, Salila Vihara
URL:https://iskcondumdum.com/event/krishna-phula-dola-salila-vihara/
CATEGORIES:Festival
END:VEVENT
BEGIN:VEVENT
DTSTART;TZID=UTC:20250511T000000
DTEND;TZID=UTC:20250511T000000
DTSTAMP:20260421T170204
CREATED:20251017T163944Z
LAST-MODIFIED:20251017T163944Z
UID:1876-1746921600-1746921600@iskcondumdum.com
SUMMARY:Narasimha Caturdasi - Appearance of Lord Narasimhadeva
DESCRIPTION:Narasimha Caturdasi – Appearance of Lord Narasimhadeva
URL:https://iskcondumdum.com/event/narasimha-caturdasi-appearance-of-lord-narasimhadeva/
CATEGORIES:Festival
END:VEVENT
END:VCALENDAR