BEGIN:VCALENDAR
VERSION:2.0
PRODID:-//ISKCON DumDum - ECPv6.15.13//NONSGML v1.0//EN
CALSCALE:GREGORIAN
METHOD:PUBLISH
X-WR-CALNAME:ISKCON DumDum
X-ORIGINAL-URL:https://iskcondumdum.com
X-WR-CALDESC:Events for ISKCON DumDum
REFRESH-INTERVAL;VALUE=DURATION:PT1H
X-Robots-Tag:noindex
X-PUBLISHED-TTL:PT1H
BEGIN:VTIMEZONE
TZID:UTC
BEGIN:STANDARD
TZOFFSETFROM:+0000
TZOFFSETTO:+0000
TZNAME:UTC
DTSTART:20240101T000000
END:STANDARD
END:VTIMEZONE
BEGIN:VEVENT
DTSTART;TZID=UTC:20260127T000000
DTEND;TZID=UTC:20260127T000000
DTSTAMP:20260420T035643
CREATED:20251017T164714Z
LAST-MODIFIED:20251017T164714Z
UID:1985-1769472000-1769472000@iskcondumdum.com
SUMMARY:Sri Madhvacarya — Disappearance
DESCRIPTION:Sri Madhvacarya — Disappearance
URL:https://iskcondumdum.com/event/sri-madhvacarya-disappearance/
CATEGORIES:Appearance & Disappearance
END:VEVENT
BEGIN:VEVENT
DTSTART;TZID=UTC:20260126T000000
DTEND;TZID=UTC:20260126T000000
DTSTAMP:20260420T035643
CREATED:20251017T164714Z
LAST-MODIFIED:20251017T164714Z
UID:1984-1769385600-1769385600@iskcondumdum.com
SUMMARY:Bhismastami
DESCRIPTION:Bhismastami
URL:https://iskcondumdum.com/event/bhismastami-2/
CATEGORIES:Festival
END:VEVENT
BEGIN:VEVENT
DTSTART;TZID=UTC:20260125T000000
DTEND;TZID=UTC:20260125T000000
DTSTAMP:20260420T035643
CREATED:20251017T164714Z
LAST-MODIFIED:20251017T164714Z
UID:1983-1769299200-1769299200@iskcondumdum.com
SUMMARY:Fast till noon
DESCRIPTION:Fast till noon
URL:https://iskcondumdum.com/event/fast-till-noon-3/
CATEGORIES:Festival
END:VEVENT
BEGIN:VEVENT
DTSTART;TZID=UTC:20260125T000000
DTEND;TZID=UTC:20260125T000000
DTSTAMP:20260420T035643
CREATED:20251017T164659Z
LAST-MODIFIED:20251017T164659Z
UID:1982-1769299200-1769299200@iskcondumdum.com
SUMMARY:Sri Advaita Acarya — Appearance
DESCRIPTION:Sri Advaita Acarya — Appearance
URL:https://iskcondumdum.com/event/sri-advaita-acarya-appearance/
CATEGORIES:Festival
END:VEVENT
BEGIN:VEVENT
DTSTART;TZID=UTC:20260123T000000
DTEND;TZID=UTC:20260123T000000
DTSTAMP:20260420T035643
CREATED:20251017T164659Z
LAST-MODIFIED:20251017T164659Z
UID:1981-1769126400-1769126400@iskcondumdum.com
SUMMARY:Srila Raghunatha Dasa Gosvami — Appearance
DESCRIPTION:Srila Raghunatha Dasa Gosvami — Appearance
URL:https://iskcondumdum.com/event/srila-raghunatha-dasa-gosvami-appearance/
CATEGORIES:Festival
END:VEVENT
BEGIN:VEVENT
DTSTART;TZID=UTC:20260123T000000
DTEND;TZID=UTC:20260123T000000
DTSTAMP:20260420T035643
CREATED:20251017T164659Z
LAST-MODIFIED:20251017T164659Z
UID:1978-1769126400-1769126400@iskcondumdum.com
SUMMARY:Srila Visvanatha Cakravarti Thakura — Disappearance
DESCRIPTION:Srila Visvanatha Cakravarti Thakura — Disappearance
URL:https://iskcondumdum.com/event/srila-visvanatha-cakravarti-thakura-disappearance/
CATEGORIES:Appearance & Disappearance
END:VEVENT
BEGIN:VEVENT
DTSTART;TZID=UTC:20260123T000000
DTEND;TZID=UTC:20260123T000000
DTSTAMP:20260420T035643
CREATED:20251017T164659Z
LAST-MODIFIED:20251017T164659Z
UID:1979-1769126400-1769126400@iskcondumdum.com
SUMMARY:Sri Pundarika Vidyanidhi — Appearance
DESCRIPTION:Sri Pundarika Vidyanidhi — Appearance
URL:https://iskcondumdum.com/event/sri-pundarika-vidyanidhi-appearance/
CATEGORIES:Festival
END:VEVENT
BEGIN:VEVENT
DTSTART;TZID=UTC:20260123T000000
DTEND;TZID=UTC:20260123T000000
DTSTAMP:20260420T035643
CREATED:20251017T164659Z
LAST-MODIFIED:20251017T164659Z
UID:1980-1769126400-1769126400@iskcondumdum.com
SUMMARY:Sri Raghunandana Thakura — Appearance
DESCRIPTION:Sri Raghunandana Thakura — Appearance
URL:https://iskcondumdum.com/event/sri-raghunandana-thakura-appearance/
CATEGORIES:Festival
END:VEVENT
BEGIN:VEVENT
DTSTART;TZID=UTC:20260123T000000
DTEND;TZID=UTC:20260123T000000
DTSTAMP:20260420T035643
CREATED:20251017T164644Z
LAST-MODIFIED:20251017T164644Z
UID:1976-1769126400-1769126400@iskcondumdum.com
SUMMARY:Srimati Visnupriya Devi — Appearance
DESCRIPTION:Srimati Visnupriya Devi — Appearance
URL:https://iskcondumdum.com/event/srimati-visnupriya-devi-appearance/
CATEGORIES:Festival
END:VEVENT
BEGIN:VEVENT
DTSTART;TZID=UTC:20260123T000000
DTEND;TZID=UTC:20260123T000000
DTSTAMP:20260420T035643
CREATED:20251017T164644Z
LAST-MODIFIED:20251017T164644Z
UID:1977-1769126400-1769126400@iskcondumdum.com
SUMMARY:Sarasvati Puja
DESCRIPTION:Sarasvati Puja
URL:https://iskcondumdum.com/event/sarasvati-puja-2/
CATEGORIES:Festival
END:VEVENT
BEGIN:VEVENT
DTSTART;TZID=UTC:20260123T000000
DTEND;TZID=UTC:20260123T000000
DTSTAMP:20260420T035643
CREATED:20251017T164644Z
LAST-MODIFIED:20251017T164644Z
UID:1975-1769126400-1769126400@iskcondumdum.com
SUMMARY:Vasanta Pancami
DESCRIPTION:Vasanta Pancami
URL:https://iskcondumdum.com/event/vasanta-pancami-2/
CATEGORIES:Festival
END:VEVENT
BEGIN:VEVENT
DTSTART;TZID=UTC:20260115T000000
DTEND;TZID=UTC:20260115T000000
DTSTAMP:20260420T035643
CREATED:20251017T164644Z
LAST-MODIFIED:20251017T164644Z
UID:1973-1768435200-1768435200@iskcondumdum.com
SUMMARY:Break the fast from 06:18 to 09:56
DESCRIPTION:Break the fast from 06:18 to 09:56
URL:https://iskcondumdum.com/event/break-the-fast-from-0618-to-0956/
CATEGORIES:Festival
END:VEVENT
BEGIN:VEVENT
DTSTART;TZID=UTC:20260115T000000
DTEND;TZID=UTC:20260115T000000
DTSTAMP:20260420T035643
CREATED:20251017T164644Z
LAST-MODIFIED:20251017T164644Z
UID:1974-1768435200-1768435200@iskcondumdum.com
SUMMARY:Ganga Sagara Mela
DESCRIPTION:Ganga Sagara Mela
URL:https://iskcondumdum.com/event/ganga-sagara-mela/
CATEGORIES:Festival
END:VEVENT
BEGIN:VEVENT
DTSTART;TZID=UTC:20260114T000000
DTEND;TZID=UTC:20260114T000000
DTSTAMP:20260420T035643
CREATED:20251017T164629Z
LAST-MODIFIED:20251017T164629Z
UID:1972-1768348800-1768348800@iskcondumdum.com
SUMMARY:Fasting for Sat-tila Ekadasi
DESCRIPTION:Fasting for Sat-tila Ekadasi
URL:https://iskcondumdum.com/event/fasting-for-sat-tila-ekadasi/
CATEGORIES:Festival
END:VEVENT
BEGIN:VEVENT
DTSTART;TZID=UTC:20260110T000000
DTEND;TZID=UTC:20260110T000000
DTSTAMP:20260420T035643
CREATED:20251017T164629Z
LAST-MODIFIED:20251017T164629Z
UID:1971-1768003200-1768003200@iskcondumdum.com
SUMMARY:Sri Locana Dasa Thakura — Disappearance
DESCRIPTION:Sri Locana Dasa Thakura — Disappearance
URL:https://iskcondumdum.com/event/sri-locana-dasa-thakura-disappearance/
CATEGORIES:Appearance & Disappearance
END:VEVENT
BEGIN:VEVENT
DTSTART;TZID=UTC:20260109T000000
DTEND;TZID=UTC:20260109T000000
DTSTAMP:20260420T035643
CREATED:20251017T164629Z
LAST-MODIFIED:20251017T164629Z
UID:1970-1767916800-1767916800@iskcondumdum.com
SUMMARY:Sri Jayadeva Gosvami — Disappearance
DESCRIPTION:Sri Jayadeva Gosvami — Disappearance
URL:https://iskcondumdum.com/event/sri-jayadeva-gosvami-disappearance/
CATEGORIES:Appearance & Disappearance
END:VEVENT
BEGIN:VEVENT
DTSTART;TZID=UTC:20260108T000000
DTEND;TZID=UTC:20260108T000000
DTSTAMP:20260420T035643
CREATED:20251017T164629Z
LAST-MODIFIED:20251017T164629Z
UID:1968-1767830400-1767830400@iskcondumdum.com
SUMMARY:Sri Ramacandra Kaviraja — Disappearance
DESCRIPTION:Sri Ramacandra Kaviraja — Disappearance
URL:https://iskcondumdum.com/event/sri-ramacandra-kaviraja-disappearance/
CATEGORIES:Appearance & Disappearance
END:VEVENT
BEGIN:VEVENT
DTSTART;TZID=UTC:20260108T000000
DTEND;TZID=UTC:20260108T000000
DTSTAMP:20260420T035643
CREATED:20251017T164629Z
LAST-MODIFIED:20251017T164629Z
UID:1969-1767830400-1767830400@iskcondumdum.com
SUMMARY:Srila Gopala Bhatta Gosvami — Appearance
DESCRIPTION:Srila Gopala Bhatta Gosvami — Appearance
URL:https://iskcondumdum.com/event/srila-gopala-bhatta-gosvami-appearance/
CATEGORIES:Festival
END:VEVENT
BEGIN:VEVENT
DTSTART;TZID=UTC:20260103T000000
DTEND;TZID=UTC:20260103T000000
DTSTAMP:20260420T035643
CREATED:20251017T164614Z
LAST-MODIFIED:20251017T164614Z
UID:1967-1767398400-1767398400@iskcondumdum.com
SUMMARY:Sri Krsna Pusya Abhiseka
DESCRIPTION:Sri Krsna Pusya Abhiseka
URL:https://iskcondumdum.com/event/sri-krsna-pusya-abhiseka/
CATEGORIES:Festival
END:VEVENT
BEGIN:VEVENT
DTSTART;TZID=UTC:20260101T000000
DTEND;TZID=UTC:20260101T000000
DTSTAMP:20260420T035643
CREATED:20251017T164614Z
LAST-MODIFIED:20251017T164614Z
UID:1966-1767225600-1767225600@iskcondumdum.com
SUMMARY:Break the fast from 06:16 to 09:52
DESCRIPTION:Break the fast from 06:16 to 09:52
URL:https://iskcondumdum.com/event/break-the-fast-from-0616-to-0952/
CATEGORIES:Festival
END:VEVENT
BEGIN:VEVENT
DTSTART;TZID=UTC:20251231T000000
DTEND;TZID=UTC:20251231T000000
DTSTAMP:20260420T035643
CREATED:20251017T164614Z
LAST-MODIFIED:20251017T164614Z
UID:1965-1767139200-1767139200@iskcondumdum.com
SUMMARY:Sri Jagadisa Pandita — Appearance
DESCRIPTION:Sri Jagadisa Pandita — Appearance
URL:https://iskcondumdum.com/event/sri-jagadisa-pandita-appearance/
CATEGORIES:Festival
END:VEVENT
BEGIN:VEVENT
DTSTART;TZID=UTC:20251231T000000
DTEND;TZID=UTC:20251231T000000
DTSTAMP:20260420T035643
CREATED:20251017T164614Z
LAST-MODIFIED:20251017T164614Z
UID:1964-1767139200-1767139200@iskcondumdum.com
SUMMARY:Fasting for Putrada Ekadasi
DESCRIPTION:Fasting for Putrada Ekadasi
URL:https://iskcondumdum.com/event/fasting-for-putrada-ekadasi/
CATEGORIES:Festival
END:VEVENT
BEGIN:VEVENT
DTSTART;TZID=UTC:20251223T000000
DTEND;TZID=UTC:20251223T000000
DTSTAMP:20260420T035643
CREATED:20251017T164614Z
LAST-MODIFIED:20251017T164614Z
UID:1963-1766448000-1766448000@iskcondumdum.com
SUMMARY:Sri Jagadisa Pandita — Disappearance
DESCRIPTION:Sri Jagadisa Pandita — Disappearance
URL:https://iskcondumdum.com/event/sri-jagadisa-pandita-disappearance/
CATEGORIES:Appearance & Disappearance
END:VEVENT
BEGIN:VEVENT
DTSTART;TZID=UTC:20251223T000000
DTEND;TZID=UTC:20251223T000000
DTSTAMP:20260420T035643
CREATED:20251017T164559Z
LAST-MODIFIED:20251017T164559Z
UID:1962-1766448000-1766448000@iskcondumdum.com
SUMMARY:Srila Jiva Gosvami — Disappearance
DESCRIPTION:Srila Jiva Gosvami — Disappearance
URL:https://iskcondumdum.com/event/srila-jiva-gosvami-disappearance/
CATEGORIES:Appearance & Disappearance
END:VEVENT
BEGIN:VEVENT
DTSTART;TZID=UTC:20251221T000000
DTEND;TZID=UTC:20251221T000000
DTSTAMP:20260420T035643
CREATED:20251017T164559Z
LAST-MODIFIED:20251017T164559Z
UID:1961-1766275200-1766275200@iskcondumdum.com
SUMMARY:Sri Locana Dasa Thakura — Appearance
DESCRIPTION:Sri Locana Dasa Thakura — Appearance
URL:https://iskcondumdum.com/event/sri-locana-dasa-thakura-appearance/
CATEGORIES:Festival
END:VEVENT
BEGIN:VEVENT
DTSTART;TZID=UTC:20251217T000000
DTEND;TZID=UTC:20251217T000000
DTSTAMP:20260420T035643
CREATED:20251017T164559Z
LAST-MODIFIED:20251017T164559Z
UID:1960-1765929600-1765929600@iskcondumdum.com
SUMMARY:Sri Uddharana Datta Thakura — Disappearance
DESCRIPTION:Sri Uddharana Datta Thakura — Disappearance
URL:https://iskcondumdum.com/event/sri-uddharana-datta-thakura-disappearance/
CATEGORIES:Appearance & Disappearance
END:VEVENT
BEGIN:VEVENT
DTSTART;TZID=UTC:20251217T000000
DTEND;TZID=UTC:20251217T000000
DTSTAMP:20260420T035643
CREATED:20251017T164559Z
LAST-MODIFIED:20251017T164559Z
UID:1958-1765929600-1765929600@iskcondumdum.com
SUMMARY:Break the fast from 06:09 to 09:45
DESCRIPTION:Break the fast from 06:09 to 09:45
URL:https://iskcondumdum.com/event/break-the-fast-from-0609-to-0945/
CATEGORIES:Festival
END:VEVENT
BEGIN:VEVENT
DTSTART;TZID=UTC:20251217T000000
DTEND;TZID=UTC:20251217T000000
DTSTAMP:20260420T035643
CREATED:20251017T164559Z
LAST-MODIFIED:20251017T164559Z
UID:1959-1765929600-1765929600@iskcondumdum.com
SUMMARY:Sri Mahesa Pandita — Disappearance
DESCRIPTION:Sri Mahesa Pandita — Disappearance
URL:https://iskcondumdum.com/event/sri-mahesa-pandita-disappearance/
CATEGORIES:Appearance & Disappearance
END:VEVENT
BEGIN:VEVENT
DTSTART;TZID=UTC:20251216T000000
DTEND;TZID=UTC:20251216T000000
DTSTAMP:20260420T035643
CREATED:20251017T164544Z
LAST-MODIFIED:20251017T164544Z
UID:1957-1765843200-1765843200@iskcondumdum.com
SUMMARY:Fasting for Saphala Ekadasi
DESCRIPTION:Fasting for Saphala Ekadasi
URL:https://iskcondumdum.com/event/fasting-for-saphala-ekadasi/
CATEGORIES:Festival
END:VEVENT
BEGIN:VEVENT
DTSTART;TZID=UTC:20251215T000000
DTEND;TZID=UTC:20251215T000000
DTSTAMP:20260420T035643
CREATED:20251017T164544Z
LAST-MODIFIED:20251017T164544Z
UID:1956-1765756800-1765756800@iskcondumdum.com
SUMMARY:Sri Devananda Pandita — Disappearance
DESCRIPTION:Sri Devananda Pandita — Disappearance
URL:https://iskcondumdum.com/event/sri-devananda-pandita-disappearance/
CATEGORIES:Appearance & Disappearance
END:VEVENT
END:VCALENDAR