BEGIN:VCALENDAR
VERSION:2.0
PRODID:-//ISKCON DumDum - ECPv6.15.13//NONSGML v1.0//EN
CALSCALE:GREGORIAN
METHOD:PUBLISH
X-WR-CALNAME:ISKCON DumDum
X-ORIGINAL-URL:https://iskcondumdum.com
X-WR-CALDESC:Events for ISKCON DumDum
REFRESH-INTERVAL;VALUE=DURATION:PT1H
X-Robots-Tag:noindex
X-PUBLISHED-TTL:PT1H
BEGIN:VTIMEZONE
TZID:UTC
BEGIN:STANDARD
TZOFFSETFROM:+0000
TZOFFSETTO:+0000
TZNAME:UTC
DTSTART:20240101T000000
END:STANDARD
END:VTIMEZONE
BEGIN:VEVENT
DTSTART;TZID=UTC:20251221T000000
DTEND;TZID=UTC:20251221T000000
DTSTAMP:20260420T072000
CREATED:20251017T164559Z
LAST-MODIFIED:20251017T164559Z
UID:1961-1766275200-1766275200@iskcondumdum.com
SUMMARY:Sri Locana Dasa Thakura — Appearance
DESCRIPTION:Sri Locana Dasa Thakura — Appearance
URL:https://iskcondumdum.com/event/sri-locana-dasa-thakura-appearance/
CATEGORIES:Festival
END:VEVENT
BEGIN:VEVENT
DTSTART;TZID=UTC:20251217T000000
DTEND;TZID=UTC:20251217T000000
DTSTAMP:20260420T072000
CREATED:20251017T164559Z
LAST-MODIFIED:20251017T164559Z
UID:1960-1765929600-1765929600@iskcondumdum.com
SUMMARY:Sri Uddharana Datta Thakura — Disappearance
DESCRIPTION:Sri Uddharana Datta Thakura — Disappearance
URL:https://iskcondumdum.com/event/sri-uddharana-datta-thakura-disappearance/
CATEGORIES:Appearance & Disappearance
END:VEVENT
BEGIN:VEVENT
DTSTART;TZID=UTC:20251217T000000
DTEND;TZID=UTC:20251217T000000
DTSTAMP:20260420T072000
CREATED:20251017T164559Z
LAST-MODIFIED:20251017T164559Z
UID:1958-1765929600-1765929600@iskcondumdum.com
SUMMARY:Break the fast from 06:09 to 09:45
DESCRIPTION:Break the fast from 06:09 to 09:45
URL:https://iskcondumdum.com/event/break-the-fast-from-0609-to-0945/
CATEGORIES:Festival
END:VEVENT
BEGIN:VEVENT
DTSTART;TZID=UTC:20251217T000000
DTEND;TZID=UTC:20251217T000000
DTSTAMP:20260420T072000
CREATED:20251017T164559Z
LAST-MODIFIED:20251017T164559Z
UID:1959-1765929600-1765929600@iskcondumdum.com
SUMMARY:Sri Mahesa Pandita — Disappearance
DESCRIPTION:Sri Mahesa Pandita — Disappearance
URL:https://iskcondumdum.com/event/sri-mahesa-pandita-disappearance/
CATEGORIES:Appearance & Disappearance
END:VEVENT
BEGIN:VEVENT
DTSTART;TZID=UTC:20251216T000000
DTEND;TZID=UTC:20251216T000000
DTSTAMP:20260420T072000
CREATED:20251017T164544Z
LAST-MODIFIED:20251017T164544Z
UID:1957-1765843200-1765843200@iskcondumdum.com
SUMMARY:Fasting for Saphala Ekadasi
DESCRIPTION:Fasting for Saphala Ekadasi
URL:https://iskcondumdum.com/event/fasting-for-saphala-ekadasi/
CATEGORIES:Festival
END:VEVENT
BEGIN:VEVENT
DTSTART;TZID=UTC:20251215T000000
DTEND;TZID=UTC:20251215T000000
DTSTAMP:20260420T072000
CREATED:20251017T164544Z
LAST-MODIFIED:20251017T164544Z
UID:1956-1765756800-1765756800@iskcondumdum.com
SUMMARY:Sri Devananda Pandita — Disappearance
DESCRIPTION:Sri Devananda Pandita — Disappearance
URL:https://iskcondumdum.com/event/sri-devananda-pandita-disappearance/
CATEGORIES:Appearance & Disappearance
END:VEVENT
BEGIN:VEVENT
DTSTART;TZID=UTC:20251208T000000
DTEND;TZID=UTC:20251208T000000
DTSTAMP:20260420T072000
CREATED:20251017T164544Z
LAST-MODIFIED:20251017T164544Z
UID:1955-1765152000-1765152000@iskcondumdum.com
SUMMARY:Fast till noon
DESCRIPTION:Fast till noon
URL:https://iskcondumdum.com/event/fast-till-noon-2/
CATEGORIES:Festival
END:VEVENT
BEGIN:VEVENT
DTSTART;TZID=UTC:20251208T000000
DTEND;TZID=UTC:20251208T000000
DTSTAMP:20260420T072000
CREATED:20251017T164544Z
LAST-MODIFIED:20251017T164544Z
UID:1954-1765152000-1765152000@iskcondumdum.com
SUMMARY:Srila Bhaktisiddhanta Sarasvati Thakura — Disappearance
DESCRIPTION:Srila Bhaktisiddhanta Sarasvati Thakura — Disappearance
URL:https://iskcondumdum.com/event/srila-bhaktisiddhanta-sarasvati-thakura-disappearance/
CATEGORIES:Appearance & Disappearance
END:VEVENT
BEGIN:VEVENT
DTSTART;TZID=UTC:20251205T000000
DTEND;TZID=UTC:20251205T000000
DTSTAMP:20260420T072000
CREATED:20251017T164544Z
LAST-MODIFIED:20251017T164544Z
UID:1953-1764892800-1764892800@iskcondumdum.com
SUMMARY:Katyayani vrata ends
DESCRIPTION:Katyayani vrata ends
URL:https://iskcondumdum.com/event/katyayani-vrata-ends-2/
CATEGORIES:Festival
END:VEVENT
BEGIN:VEVENT
DTSTART;TZID=UTC:20251202T000000
DTEND;TZID=UTC:20251202T000000
DTSTAMP:20260420T072000
CREATED:20251017T164529Z
LAST-MODIFIED:20251017T164529Z
UID:1952-1764633600-1764633600@iskcondumdum.com
SUMMARY:Break the fast from 06:00 to 09:37
DESCRIPTION:Break the fast from 06:00 to 09:37
URL:https://iskcondumdum.com/event/break-the-fast-from-0600-to-0937/
CATEGORIES:Festival
END:VEVENT
BEGIN:VEVENT
DTSTART;TZID=UTC:20251201T000000
DTEND;TZID=UTC:20251201T000000
DTSTAMP:20260420T072000
CREATED:20251017T164529Z
LAST-MODIFIED:20251017T164529Z
UID:1950-1764547200-1764547200@iskcondumdum.com
SUMMARY:Fasting for Moksada Ekadasi
DESCRIPTION:Fasting for Moksada Ekadasi
URL:https://iskcondumdum.com/event/fasting-for-moksada-ekadasi/
CATEGORIES:Festival
END:VEVENT
BEGIN:VEVENT
DTSTART;TZID=UTC:20251201T000000
DTEND;TZID=UTC:20251201T000000
DTSTAMP:20260420T072000
CREATED:20251017T164529Z
LAST-MODIFIED:20251017T164529Z
UID:1951-1764547200-1764547200@iskcondumdum.com
SUMMARY:Advent of Srimad Bhagavad-gita
DESCRIPTION:Advent of Srimad Bhagavad-gita
URL:https://iskcondumdum.com/event/advent-of-srimad-bhagavad-gita/
CATEGORIES:Temple-Festivals
END:VEVENT
BEGIN:VEVENT
DTSTART;TZID=UTC:20251126T000000
DTEND;TZID=UTC:20251126T000000
DTSTAMP:20260420T072000
CREATED:20251016T214721Z
LAST-MODIFIED:20251017T164529Z
UID:1542-1764115200-1764115200@iskcondumdum.com
SUMMARY:Odana sasthi
DESCRIPTION:Odana sasthi
URL:https://iskcondumdum.com/event/odana-sasthi/
CATEGORIES:Festival
END:VEVENT
BEGIN:VEVENT
DTSTART;TZID=UTC:20251117T000000
DTEND;TZID=UTC:20251117T000000
DTSTAMP:20260420T072000
CREATED:20251017T164529Z
LAST-MODIFIED:20251017T164529Z
UID:1948-1763337600-1763337600@iskcondumdum.com
SUMMARY:Sri Saranga Thakura — Disappearance
DESCRIPTION:Sri Saranga Thakura — Disappearance
URL:https://iskcondumdum.com/event/sri-saranga-thakura-disappearance/
CATEGORIES:Appearance & Disappearance
END:VEVENT
BEGIN:VEVENT
DTSTART;TZID=UTC:20251116T000000
DTEND;TZID=UTC:20251116T000000
DTSTAMP:20260420T072000
CREATED:20251017T164514Z
LAST-MODIFIED:20251017T164514Z
UID:1946-1763251200-1763251200@iskcondumdum.com
SUMMARY:Break the fast from 09:11 to 09:30
DESCRIPTION:Break the fast from 09:11 to 09:30
URL:https://iskcondumdum.com/event/break-the-fast-from-0911-to-0930/
CATEGORIES:Festival
END:VEVENT
BEGIN:VEVENT
DTSTART;TZID=UTC:20251116T000000
DTEND;TZID=UTC:20251116T000000
DTSTAMP:20260420T072000
CREATED:20251017T164514Z
LAST-MODIFIED:20251017T164514Z
UID:1947-1763251200-1763251200@iskcondumdum.com
SUMMARY:Sri Kaliya Krsnadasa — Disappearance
DESCRIPTION:Sri Kaliya Krsnadasa — Disappearance
URL:https://iskcondumdum.com/event/sri-kaliya-krsnadasa-disappearance/
CATEGORIES:Appearance & Disappearance
END:VEVENT
BEGIN:VEVENT
DTSTART;TZID=UTC:20251115T000000
DTEND;TZID=UTC:20251115T000000
DTSTAMP:20260420T072000
CREATED:20251017T164514Z
LAST-MODIFIED:20251017T164514Z
UID:1944-1763164800-1763164800@iskcondumdum.com
SUMMARY:Fasting for Utpanna Ekadasi
DESCRIPTION:Fasting for Utpanna Ekadasi
URL:https://iskcondumdum.com/event/fasting-for-utpanna-ekadasi/
CATEGORIES:Festival
END:VEVENT
BEGIN:VEVENT
DTSTART;TZID=UTC:20251115T000000
DTEND;TZID=UTC:20251115T000000
DTSTAMP:20260420T072000
CREATED:20251017T164514Z
LAST-MODIFIED:20251017T164514Z
UID:1945-1763164800-1763164800@iskcondumdum.com
SUMMARY:Sri Narahari Sarakara Thakura — Disappearance
DESCRIPTION:Sri Narahari Sarakara Thakura — Disappearance
URL:https://iskcondumdum.com/event/sri-narahari-sarakara-thakura-disappearance/
CATEGORIES:Appearance & Disappearance
END:VEVENT
BEGIN:VEVENT
DTSTART;TZID=UTC:20251106T000000
DTEND;TZID=UTC:20251106T000000
DTSTAMP:20260420T072000
CREATED:20251016T214717Z
LAST-MODIFIED:20251017T164514Z
UID:1538-1762387200-1762387200@iskcondumdum.com
SUMMARY:Katyayani vrata begins
DESCRIPTION:Katyayani vrata begins
URL:https://iskcondumdum.com/event/katyayani-vrata-begins/
CATEGORIES:Festival
END:VEVENT
BEGIN:VEVENT
DTSTART;TZID=UTC:20251105T000000
DTEND;TZID=UTC:20251105T000000
DTSTAMP:20260420T072000
CREATED:20251017T164459Z
LAST-MODIFIED:20251017T164459Z
UID:1942-1762300800-1762300800@iskcondumdum.com
SUMMARY:Last day of Bhisma Pancaka
DESCRIPTION:Last day of Bhisma Pancaka
URL:https://iskcondumdum.com/event/last-day-of-bhisma-pancaka/
CATEGORIES:Festival
END:VEVENT
BEGIN:VEVENT
DTSTART;TZID=UTC:20251105T000000
DTEND;TZID=UTC:20251105T000000
DTSTAMP:20260420T072000
CREATED:20251017T164459Z
LAST-MODIFIED:20251017T164459Z
UID:1940-1762300800-1762300800@iskcondumdum.com
SUMMARY:Tulasi-Saligrama Vivaha (marriage)
DESCRIPTION:Tulasi-Saligrama Vivaha (marriage)
URL:https://iskcondumdum.com/event/tulasi-saligrama-vivaha-marriage/
CATEGORIES:Festival
END:VEVENT
BEGIN:VEVENT
DTSTART;TZID=UTC:20251105T000000
DTEND;TZID=UTC:20251105T000000
DTSTAMP:20260420T072000
CREATED:20251017T164459Z
LAST-MODIFIED:20251017T164459Z
UID:1941-1762300800-1762300800@iskcondumdum.com
SUMMARY:Sri Nimbarkacarya — Appearance
DESCRIPTION:Sri Nimbarkacarya — Appearance
URL:https://iskcondumdum.com/event/sri-nimbarkacarya-appearance/
CATEGORIES:Festival
END:VEVENT
BEGIN:VEVENT
DTSTART;TZID=UTC:20251105T000000
DTEND;TZID=UTC:20251105T000000
DTSTAMP:20260420T072000
CREATED:20251016T214714Z
LAST-MODIFIED:20251017T164459Z
UID:1534-1762300800-1762300800@iskcondumdum.com
SUMMARY:Sri Krsna Rasayatra
DESCRIPTION:Sri Krsna Rasayatra
URL:https://iskcondumdum.com/event/sri-krsna-rasayatra/
CATEGORIES:Festival
END:VEVENT
BEGIN:VEVENT
DTSTART;TZID=UTC:20251104T000000
DTEND;TZID=UTC:20251104T000000
DTSTAMP:20260420T072000
CREATED:20251017T164459Z
LAST-MODIFIED:20251017T164459Z
UID:1939-1762214400-1762214400@iskcondumdum.com
SUMMARY:The end of the fourth month of Chaturmasya
DESCRIPTION:The end of the fourth month of Chaturmasya
URL:https://iskcondumdum.com/event/the-end-of-the-fourth-month-of-chaturmasya/
CATEGORIES:Festival
END:VEVENT
BEGIN:VEVENT
DTSTART;TZID=UTC:20251104T000000
DTEND;TZID=UTC:20251104T000000
DTSTAMP:20260420T072000
CREATED:20251017T164446Z
LAST-MODIFIED:20251017T164446Z
UID:1937-1762214400-1762214400@iskcondumdum.com
SUMMARY:Sri Bhugarbha Gosvami — Disappearance
DESCRIPTION:Sri Bhugarbha Gosvami — Disappearance
URL:https://iskcondumdum.com/event/sri-bhugarbha-gosvami-disappearance/
CATEGORIES:Appearance & Disappearance
END:VEVENT
BEGIN:VEVENT
DTSTART;TZID=UTC:20251104T000000
DTEND;TZID=UTC:20251104T000000
DTSTAMP:20260420T072000
CREATED:20251017T164446Z
LAST-MODIFIED:20251017T164446Z
UID:1938-1762214400-1762214400@iskcondumdum.com
SUMMARY:Sri Kasisvara Pandita — Disappearance
DESCRIPTION:Sri Kasisvara Pandita — Disappearance
URL:https://iskcondumdum.com/event/sri-kasisvara-pandita-disappearance/
CATEGORIES:Appearance & Disappearance
END:VEVENT
BEGIN:VEVENT
DTSTART;TZID=UTC:20251103T000000
DTEND;TZID=UTC:20251103T000000
DTSTAMP:20260420T072000
CREATED:20251017T164446Z
LAST-MODIFIED:20251017T164446Z
UID:1936-1762128000-1762128000@iskcondumdum.com
SUMMARY:Break the fast from 05:42 to 09:27
DESCRIPTION:Break the fast from 05:42 to 09:27
URL:https://iskcondumdum.com/event/break-the-fast-from-0542-to-0927/
CATEGORIES:Festival
END:VEVENT
BEGIN:VEVENT
DTSTART;TZID=UTC:20251102T000000
DTEND;TZID=UTC:20251102T000000
DTSTAMP:20260420T072000
CREATED:20251017T164446Z
LAST-MODIFIED:20251017T164446Z
UID:1934-1762041600-1762041600@iskcondumdum.com
SUMMARY:Fasting till noon\, with feast tomorrow
DESCRIPTION:Fasting till noon\, with feast tomorrow
URL:https://iskcondumdum.com/event/fasting-till-noon-with-feast-tomorrow/
CATEGORIES:Festival
END:VEVENT
BEGIN:VEVENT
DTSTART;TZID=UTC:20251102T000000
DTEND;TZID=UTC:20251102T000000
DTSTAMP:20260420T072000
CREATED:20251017T164446Z
LAST-MODIFIED:20251017T164446Z
UID:1935-1762041600-1762041600@iskcondumdum.com
SUMMARY:First day of Bhisma Pancaka
DESCRIPTION:First day of Bhisma Pancaka
URL:https://iskcondumdum.com/event/first-day-of-bhisma-pancaka/
CATEGORIES:Festival
END:VEVENT
BEGIN:VEVENT
DTSTART;TZID=UTC:20251102T000000
DTEND;TZID=UTC:20251102T000000
DTSTAMP:20260420T072000
CREATED:20251017T164429Z
LAST-MODIFIED:20251017T164429Z
UID:1932-1762041600-1762041600@iskcondumdum.com
SUMMARY:Fasting for Utthana Ekadasi
DESCRIPTION:Fasting for Utthana Ekadasi
URL:https://iskcondumdum.com/event/fasting-for-utthana-ekadasi/
CATEGORIES:Festival
END:VEVENT
END:VCALENDAR