BEGIN:VCALENDAR
VERSION:2.0
PRODID:-//ISKCON DumDum - ECPv6.15.13//NONSGML v1.0//EN
CALSCALE:GREGORIAN
METHOD:PUBLISH
X-WR-CALNAME:ISKCON DumDum
X-ORIGINAL-URL:https://iskcondumdum.com
X-WR-CALDESC:Events for ISKCON DumDum
REFRESH-INTERVAL;VALUE=DURATION:PT1H
X-Robots-Tag:noindex
X-PUBLISHED-TTL:PT1H
BEGIN:VTIMEZONE
TZID:UTC
BEGIN:STANDARD
TZOFFSETFROM:+0000
TZOFFSETTO:+0000
TZNAME:UTC
DTSTART:20240101T000000
END:STANDARD
END:VTIMEZONE
BEGIN:VEVENT
DTSTART;TZID=UTC:20250828T000000
DTEND;TZID=UTC:20250828T000000
DTSTAMP:20260421T153644
CREATED:20251016T214540Z
LAST-MODIFIED:20251017T164229Z
UID:1490-1756339200-1756339200@iskcondumdum.com
SUMMARY:Srimati Sita Thakurani Appearance Day
DESCRIPTION:Srimati Sita Thakurani Appearance Day
URL:https://iskcondumdum.com/event/srimati-sita-thakurani-appearance-day/
CATEGORIES:Festival
END:VEVENT
BEGIN:VEVENT
DTSTART;TZID=UTC:20250831T000000
DTEND;TZID=UTC:20250831T000000
DTSTAMP:20260421T153644
CREATED:20251017T164229Z
LAST-MODIFIED:20251017T164229Z
UID:1906-1756598400-1756598400@iskcondumdum.com
SUMMARY:Radhastami : Appearance of Srimati Radharani
DESCRIPTION:Radhastami : Appearance of Srimati Radharani
URL:https://iskcondumdum.com/event/radhastami-appearance-of-srimati-radharani/
CATEGORIES:Festival
END:VEVENT
BEGIN:VEVENT
DTSTART;TZID=UTC:20250903T000000
DTEND;TZID=UTC:20250903T000000
DTSTAMP:20260421T153644
CREATED:20251016T214556Z
LAST-MODIFIED:20251017T164229Z
UID:1492-1756857600-1756857600@iskcondumdum.com
SUMMARY:Parsva Ekadashi
DESCRIPTION:Parsva Ekadashi
URL:https://iskcondumdum.com/event/parsva-ekadashi/
CATEGORIES:Festival
END:VEVENT
BEGIN:VEVENT
DTSTART;TZID=UTC:20250904T000000
DTEND;TZID=UTC:20250904T000000
DTSTAMP:20260421T153644
CREATED:20251017T164229Z
LAST-MODIFIED:20251017T164229Z
UID:1907-1756944000-1756944000@iskcondumdum.com
SUMMARY:Sri Vamana Dwadashi : Appearance of Sri Vamana Deva
DESCRIPTION:Sri Vamana Dwadashi : Appearance of Sri Vamana Deva
URL:https://iskcondumdum.com/event/sri-vamana-dwadashi-appearance-of-sri-vamana-deva/
CATEGORIES:Festival
END:VEVENT
BEGIN:VEVENT
DTSTART;TZID=UTC:20250904T000000
DTEND;TZID=UTC:20250904T000000
DTSTAMP:20260421T153644
CREATED:20251017T164229Z
LAST-MODIFIED:20251017T164229Z
UID:1908-1756944000-1756944000@iskcondumdum.com
SUMMARY:Appearance Day of Sri Jiva Goswami
DESCRIPTION:Appearance Day of Sri Jiva Goswami
URL:https://iskcondumdum.com/event/appearance-day-of-sri-jiva-goswami/
CATEGORIES:Festival
END:VEVENT
BEGIN:VEVENT
DTSTART;TZID=UTC:20250905T000000
DTEND;TZID=UTC:20250905T000000
DTSTAMP:20260421T153644
CREATED:20251017T164244Z
LAST-MODIFIED:20251017T164244Z
UID:1909-1757030400-1757030400@iskcondumdum.com
SUMMARY:Appearance Day of Srila Bhaktivinoda Thakura
DESCRIPTION:Appearance Day of Srila Bhaktivinoda Thakura
URL:https://iskcondumdum.com/event/appearance-day-of-srila-bhaktivinoda-thakura/
CATEGORIES:Festival
END:VEVENT
BEGIN:VEVENT
DTSTART;TZID=UTC:20250906T000000
DTEND;TZID=UTC:20250906T000000
DTSTAMP:20260421T153644
CREATED:20251017T164244Z
LAST-MODIFIED:20251017T164244Z
UID:1911-1757116800-1757116800@iskcondumdum.com
SUMMARY:Disappearance Day of Srila Haridasa Thakura
DESCRIPTION:Disappearance Day of Srila Haridasa Thakura
URL:https://iskcondumdum.com/event/disappearance-day-of-srila-haridasa-thakura/
CATEGORIES:Appearance & Disappearance
END:VEVENT
BEGIN:VEVENT
DTSTART;TZID=UTC:20250906T000000
DTEND;TZID=UTC:20250906T000000
DTSTAMP:20260421T153644
CREATED:20251017T164244Z
LAST-MODIFIED:20251017T164244Z
UID:1910-1757116800-1757116800@iskcondumdum.com
SUMMARY:Ananta Caturdasi Vrata : Appearance Day of Padmanabha
DESCRIPTION:Ananta Caturdasi Vrata : Appearance Day of Padmanabha
URL:https://iskcondumdum.com/event/ananta-caturdasi-vrata-appearance-day-of-padmanabha/
CATEGORIES:Festival
END:VEVENT
BEGIN:VEVENT
DTSTART;TZID=UTC:20250907T000000
DTEND;TZID=UTC:20250907T000000
DTSTAMP:20260421T153644
CREATED:20251016T214603Z
LAST-MODIFIED:20251017T164244Z
UID:1499-1757203200-1757203200@iskcondumdum.com
SUMMARY:Acceptance of Sannyasa by Srila Prabhupada
DESCRIPTION:Acceptance of Sannyasa by Srila Prabhupada
URL:https://iskcondumdum.com/event/acceptance-of-sannyasa-by-srila-prabhupada/
CATEGORIES:Festival
END:VEVENT
BEGIN:VEVENT
DTSTART;TZID=UTC:20250907T000000
DTEND;TZID=UTC:20250907T000000
DTSTAMP:20260421T153644
CREATED:20251016T214603Z
LAST-MODIFIED:20251017T164244Z
UID:1498-1757203200-1757203200@iskcondumdum.com
SUMMARY:Sri Visvarupa Mahotsava
DESCRIPTION:Sri Visvarupa Mahotsava
URL:https://iskcondumdum.com/event/sri-visvarupa-mahotsava/
CATEGORIES:Festival
END:VEVENT
BEGIN:VEVENT
DTSTART;TZID=UTC:20250908T000000
DTEND;TZID=UTC:20250908T000000
DTSTAMP:20260421T153644
CREATED:20251016T214603Z
LAST-MODIFIED:20251017T164259Z
UID:1500-1757289600-1757289600@iskcondumdum.com
SUMMARY:Third Month of Caturmasya Begins
DESCRIPTION:Third Month of Caturmasya Begins
URL:https://iskcondumdum.com/event/third-month-of-caturmasya-begins/
CATEGORIES:Festival
END:VEVENT
BEGIN:VEVENT
DTSTART;TZID=UTC:20250914T000000
DTEND;TZID=UTC:20250914T000000
DTSTAMP:20260421T153644
CREATED:20251016T214619Z
LAST-MODIFIED:20251017T164259Z
UID:1501-1757808000-1757808000@iskcondumdum.com
SUMMARY:Srila Prabhupada’s arrival in the USA
DESCRIPTION:Srila Prabhupada’s arrival in the USA
URL:https://iskcondumdum.com/event/srila-prabhupadas-arrival-in-the-usa/
CATEGORIES:Festival
END:VEVENT
BEGIN:VEVENT
DTSTART;TZID=UTC:20250917T000000
DTEND;TZID=UTC:20250917T000000
DTSTAMP:20260421T153644
CREATED:20251016T214619Z
LAST-MODIFIED:20251017T164259Z
UID:1502-1758067200-1758067200@iskcondumdum.com
SUMMARY:Indira Ekadasi
DESCRIPTION:Indira Ekadasi
URL:https://iskcondumdum.com/event/indira-ekadasi/
CATEGORIES:Festival
END:VEVENT
BEGIN:VEVENT
DTSTART;TZID=UTC:20250929T000000
DTEND;TZID=UTC:20250929T000000
DTSTAMP:20260421T153644
CREATED:20251016T214619Z
LAST-MODIFIED:20251017T164259Z
UID:1503-1759104000-1759104000@iskcondumdum.com
SUMMARY:Durga Puja
DESCRIPTION:Durga Puja
URL:https://iskcondumdum.com/event/durga-puja/
CATEGORIES:Festival
END:VEVENT
BEGIN:VEVENT
DTSTART;TZID=UTC:20251002T000000
DTEND;TZID=UTC:20251002T000000
DTSTAMP:20260421T153644
CREATED:20251016T214619Z
LAST-MODIFIED:20251017T164259Z
UID:1504-1759363200-1759363200@iskcondumdum.com
SUMMARY:Ramacandra Vijayotsava
DESCRIPTION:Ramacandra Vijayotsava
URL:https://iskcondumdum.com/event/ramacandra-vijayotsava/
CATEGORIES:Festival
END:VEVENT
BEGIN:VEVENT
DTSTART;TZID=UTC:20251002T000000
DTEND;TZID=UTC:20251002T000000
DTSTAMP:20260421T153644
CREATED:20251017T164314Z
LAST-MODIFIED:20251017T164314Z
UID:1912-1759363200-1759363200@iskcondumdum.com
SUMMARY:Appearance Day of Sri Madhvacharya
DESCRIPTION:Appearance Day of Sri Madhvacharya
URL:https://iskcondumdum.com/event/appearance-day-of-sri-madhvacharya/
CATEGORIES:Festival
END:VEVENT
BEGIN:VEVENT
DTSTART;TZID=UTC:20251003T000000
DTEND;TZID=UTC:20251003T000000
DTSTAMP:20260421T153644
CREATED:20251016T214623Z
LAST-MODIFIED:20251017T164314Z
UID:1506-1759449600-1759449600@iskcondumdum.com
SUMMARY:Pasankusa Ekadashi
DESCRIPTION:Pasankusa Ekadashi
URL:https://iskcondumdum.com/event/pasankusa-ekadashi/
CATEGORIES:Festival
END:VEVENT
BEGIN:VEVENT
DTSTART;TZID=UTC:20251004T000000
DTEND;TZID=UTC:20251004T000000
DTSTAMP:20260421T153644
CREATED:20251017T164314Z
LAST-MODIFIED:20251017T164314Z
UID:1913-1759536000-1759536000@iskcondumdum.com
SUMMARY:Disappearance Day of Srila Raghunatha Dasa Goswami
DESCRIPTION:Disappearance Day of Srila Raghunatha Dasa Goswami
URL:https://iskcondumdum.com/event/disappearance-day-of-srila-raghunatha-dasa-goswami/
CATEGORIES:Appearance & Disappearance
END:VEVENT
BEGIN:VEVENT
DTSTART;TZID=UTC:20251004T000000
DTEND;TZID=UTC:20251004T000000
DTSTAMP:20260421T153644
CREATED:20251017T164314Z
LAST-MODIFIED:20251017T164314Z
UID:1914-1759536000-1759536000@iskcondumdum.com
SUMMARY:Disappearance Day of Srila Raghunatha Bhatta Goswami
DESCRIPTION:Disappearance Day of Srila Raghunatha Bhatta Goswami
URL:https://iskcondumdum.com/event/disappearance-day-of-srila-raghunatha-bhatta-goswami/
CATEGORIES:Appearance & Disappearance
END:VEVENT
BEGIN:VEVENT
DTSTART;TZID=UTC:20251004T000000
DTEND;TZID=UTC:20251004T000000
DTSTAMP:20260421T153644
CREATED:20251017T164314Z
LAST-MODIFIED:20251017T164314Z
UID:1915-1759536000-1759536000@iskcondumdum.com
SUMMARY:Disappearance Day of Srila Krsnadasa Kaviraja Goswami
DESCRIPTION:Disappearance Day of Srila Krsnadasa Kaviraja Goswami
URL:https://iskcondumdum.com/event/disappearance-day-of-srila-krsnadasa-kaviraja-goswami/
CATEGORIES:Appearance & Disappearance
END:VEVENT
BEGIN:VEVENT
DTSTART;TZID=UTC:20251007T000000
DTEND;TZID=UTC:20251007T000000
DTSTAMP:20260421T153644
CREATED:20251016T214623Z
LAST-MODIFIED:20251017T164329Z
UID:1510-1759795200-1759795200@iskcondumdum.com
SUMMARY:Sri Krsna Saradiya Rasayatra
DESCRIPTION:Sri Krsna Saradiya Rasayatra
URL:https://iskcondumdum.com/event/sri-krsna-saradiya-rasayatra/
CATEGORIES:Festival
END:VEVENT
BEGIN:VEVENT
DTSTART;TZID=UTC:20251007T000000
DTEND;TZID=UTC:20251007T000000
DTSTAMP:20260421T153644
CREATED:20251016T214627Z
LAST-MODIFIED:20251017T164329Z
UID:1511-1759795200-1759795200@iskcondumdum.com
SUMMARY:Laksmi Puja
DESCRIPTION:Laksmi Puja
URL:https://iskcondumdum.com/event/laksmi-puja/
CATEGORIES:Festival
END:VEVENT
BEGIN:VEVENT
DTSTART;TZID=UTC:20251007T000000
DTEND;TZID=UTC:20251007T000000
DTSTAMP:20260421T153644
CREATED:20251017T164329Z
LAST-MODIFIED:20251017T164329Z
UID:1916-1759795200-1759795200@iskcondumdum.com
SUMMARY:Disappearance Day of Sri Murari Gupta
DESCRIPTION:Disappearance Day of Sri Murari Gupta
URL:https://iskcondumdum.com/event/disappearance-day-of-sri-murari-gupta/
CATEGORIES:Appearance & Disappearance
END:VEVENT
BEGIN:VEVENT
DTSTART;TZID=UTC:20251008T000000
DTEND;TZID=UTC:20251008T000000
DTSTAMP:20260421T153644
CREATED:20251016T214627Z
LAST-MODIFIED:20251017T164329Z
UID:1513-1759881600-1759881600@iskcondumdum.com
SUMMARY:Fourth Month of Caturmasya Begins
DESCRIPTION:Fourth Month of Caturmasya Begins
URL:https://iskcondumdum.com/event/fourth-month-of-caturmasya-begins/
CATEGORIES:Festival
END:VEVENT
BEGIN:VEVENT
DTSTART;TZID=UTC:20251011T000000
DTEND;TZID=UTC:20251011T000000
DTSTAMP:20260421T153644
CREATED:20251017T164329Z
LAST-MODIFIED:20251017T164329Z
UID:1917-1760140800-1760140800@iskcondumdum.com
SUMMARY:Disappearance Day of Srila Narottama Dasa Thakura
DESCRIPTION:Disappearance Day of Srila Narottama Dasa Thakura
URL:https://iskcondumdum.com/event/disappearance-day-of-srila-narottama-dasa-thakura/
CATEGORIES:Appearance & Disappearance
END:VEVENT
BEGIN:VEVENT
DTSTART;TZID=UTC:20251014T000000
DTEND;TZID=UTC:20251014T000000
DTSTAMP:20260421T153644
CREATED:20251016T214640Z
LAST-MODIFIED:20251017T164344Z
UID:1516-1760400000-1760400000@iskcondumdum.com
SUMMARY:Bahulastami
DESCRIPTION:Bahulastami
URL:https://iskcondumdum.com/event/bahulastami/
CATEGORIES:Festival
END:VEVENT
BEGIN:VEVENT
DTSTART;TZID=UTC:20251014T000000
DTEND;TZID=UTC:20251014T000000
DTSTAMP:20260421T153644
CREATED:20251017T164344Z
LAST-MODIFIED:20251017T164344Z
UID:1918-1760400000-1760400000@iskcondumdum.com
SUMMARY:Appearance Day of Radha Kunda\, Snana Dana
DESCRIPTION:Appearance Day of Radha Kunda\, Snana Dana
URL:https://iskcondumdum.com/event/appearance-day-of-radha-kunda-snana-dana/
CATEGORIES:Festival
END:VEVENT
BEGIN:VEVENT
DTSTART;TZID=UTC:20251015T000000
DTEND;TZID=UTC:20251015T000000
DTSTAMP:20260421T153644
CREATED:20251017T164344Z
LAST-MODIFIED:20251017T164344Z
UID:1919-1760486400-1760486400@iskcondumdum.com
SUMMARY:Appearance Day of Virabhadra
DESCRIPTION:Appearance Day of Virabhadra
URL:https://iskcondumdum.com/event/appearance-day-of-virabhadra/
CATEGORIES:Festival
END:VEVENT
BEGIN:VEVENT
DTSTART;TZID=UTC:20251017T000000
DTEND;TZID=UTC:20251017T000000
DTSTAMP:20260421T153644
CREATED:20251017T164344Z
LAST-MODIFIED:20251017T164344Z
UID:1920-1760659200-1760659200@iskcondumdum.com
SUMMARY:Fasting for Rama Ekadasi
DESCRIPTION:Fasting for Rama Ekadasi
URL:https://iskcondumdum.com/event/fasting-for-rama-ekadasi/
CATEGORIES:Festival
END:VEVENT
BEGIN:VEVENT
DTSTART;TZID=UTC:20251018T000000
DTEND;TZID=UTC:20251018T000000
DTSTAMP:20260421T153644
CREATED:20251017T164344Z
LAST-MODIFIED:20251017T164344Z
UID:1921-1760745600-1760745600@iskcondumdum.com
SUMMARY:Break the fast from 05:34 to 09:25
DESCRIPTION:Break the fast from 05:34 to 09:25
URL:https://iskcondumdum.com/event/break-the-fast-from-0534-to-0925/
CATEGORIES:Festival
END:VEVENT
END:VCALENDAR