BEGIN:VCALENDAR
VERSION:2.0
PRODID:-//ISKCON DumDum - ECPv6.15.13//NONSGML v1.0//EN
CALSCALE:GREGORIAN
METHOD:PUBLISH
X-WR-CALNAME:ISKCON DumDum
X-ORIGINAL-URL:https://iskcondumdum.com
X-WR-CALDESC:Events for ISKCON DumDum
REFRESH-INTERVAL;VALUE=DURATION:PT1H
X-Robots-Tag:noindex
X-PUBLISHED-TTL:PT1H
BEGIN:VTIMEZONE
TZID:UTC
BEGIN:STANDARD
TZOFFSETFROM:+0000
TZOFFSETTO:+0000
TZNAME:UTC
DTSTART:20240101T000000
END:STANDARD
END:VTIMEZONE
BEGIN:VEVENT
DTSTART;TZID=UTC:20250118T000000
DTEND;TZID=UTC:20250118T000000
DTSTAMP:20260422T022641
CREATED:20251017T163708Z
LAST-MODIFIED:20251017T163708Z
UID:1837-1737158400-1737158400@iskcondumdum.com
SUMMARY:Appearance Day of Srila Gopala Bhatta Goswami
DESCRIPTION:Appearance Day of Srila Gopala Bhatta Goswami
URL:https://iskcondumdum.com/event/appearance-day-of-srila-gopala-bhatta-goswami/
CATEGORIES:Festival
END:VEVENT
BEGIN:VEVENT
DTSTART;TZID=UTC:20250115T000000
DTEND;TZID=UTC:20250115T000000
DTSTAMP:20260422T022641
CREATED:20251016T214212Z
LAST-MODIFIED:20251017T163708Z
UID:1368-1736899200-1736899200@iskcondumdum.com
SUMMARY:Makara Sankranti
DESCRIPTION:Makara Sankranti
URL:https://iskcondumdum.com/event/makara-sankranti/
CATEGORIES:Festival
END:VEVENT
BEGIN:VEVENT
DTSTART;TZID=UTC:20250115T000000
DTEND;TZID=UTC:20250115T000000
DTSTAMP:20260422T022641
CREATED:20251016T214201Z
LAST-MODIFIED:20251017T163708Z
UID:1367-1736899200-1736899200@iskcondumdum.com
SUMMARY:Ganga Sagar Mela
DESCRIPTION:Ganga Sagar Mela
URL:https://iskcondumdum.com/event/ganga-sagar-mela/
CATEGORIES:Festival
END:VEVENT
BEGIN:VEVENT
DTSTART;TZID=UTC:20250113T000000
DTEND;TZID=UTC:20250113T000000
DTSTAMP:20260422T022641
CREATED:20251016T214200Z
LAST-MODIFIED:20251017T163705Z
UID:1366-1736726400-1736726400@iskcondumdum.com
SUMMARY:Sri Krishna Pushya Abhishek
DESCRIPTION:Sri Krishna Pushya Abhishek
URL:https://iskcondumdum.com/event/sri-krishna-pushya-abhishek/
CATEGORIES:Temple-Festivals
END:VEVENT
BEGIN:VEVENT
DTSTART;TZID=UTC:20250111T000000
DTEND;TZID=UTC:20250111T000000
DTSTAMP:20260422T022641
CREATED:20251017T163705Z
LAST-MODIFIED:20251017T163705Z
UID:1836-1736553600-1736553600@iskcondumdum.com
SUMMARY:Appearance Day of Sri Jagadisa Pandita
DESCRIPTION:Appearance Day of Sri Jagadisa Pandita
URL:https://iskcondumdum.com/event/appearance-day-of-sri-jagadisa-pandita/
CATEGORIES:Festival
END:VEVENT
BEGIN:VEVENT
DTSTART;TZID=UTC:20250110T000000
DTEND;TZID=UTC:20250110T000000
DTSTAMP:20260422T022641
CREATED:20251016T214200Z
LAST-MODIFIED:20251017T163705Z
UID:1364-1736467200-1736467200@iskcondumdum.com
SUMMARY:Putrada Ekadashi
DESCRIPTION:Putrada Ekadashi
URL:https://iskcondumdum.com/event/putrada-ekadashi/
CATEGORIES:Festival
END:VEVENT
BEGIN:VEVENT
DTSTART;TZID=UTC:20250102T000000
DTEND;TZID=UTC:20250102T000000
DTSTAMP:20260422T022641
CREATED:20251017T163705Z
LAST-MODIFIED:20251017T163705Z
UID:1834-1735776000-1735776000@iskcondumdum.com
SUMMARY:Disappearance Day of Sri Jiva Goswami
DESCRIPTION:Disappearance Day of Sri Jiva Goswami
URL:https://iskcondumdum.com/event/disappearance-day-of-sri-jiva-goswami/
CATEGORIES:Appearance & Disappearance
END:VEVENT
BEGIN:VEVENT
DTSTART;TZID=UTC:20250102T000000
DTEND;TZID=UTC:20250102T000000
DTSTAMP:20260422T022641
CREATED:20251017T163705Z
LAST-MODIFIED:20251017T163705Z
UID:1835-1735776000-1735776000@iskcondumdum.com
SUMMARY:Disappearance Day of Sri Jagadisa Pandita
DESCRIPTION:Disappearance Day of Sri Jagadisa Pandita
URL:https://iskcondumdum.com/event/disappearance-day-of-sri-jagadisa-pandita/
CATEGORIES:Appearance & Disappearance
END:VEVENT
END:VCALENDAR