BEGIN:VCALENDAR
VERSION:2.0
PRODID:-//ISKCON DumDum - ECPv6.15.13//NONSGML v1.0//EN
CALSCALE:GREGORIAN
METHOD:PUBLISH
X-WR-CALNAME:ISKCON DumDum
X-ORIGINAL-URL:https://iskcondumdum.com
X-WR-CALDESC:Events for ISKCON DumDum
REFRESH-INTERVAL;VALUE=DURATION:PT1H
X-Robots-Tag:noindex
X-PUBLISHED-TTL:PT1H
BEGIN:VTIMEZONE
TZID:UTC
BEGIN:STANDARD
TZOFFSETFROM:+0000
TZOFFSETTO:+0000
TZNAME:UTC
DTSTART:20240101T000000
END:STANDARD
END:VTIMEZONE
BEGIN:VEVENT
DTSTART;TZID=UTC:20250315T000000
DTEND;TZID=UTC:20250315T000000
DTSTAMP:20260421T232141
CREATED:20251016T214320Z
LAST-MODIFIED:20251017T163829Z
UID:1402-1741996800-1741996800@iskcondumdum.com
SUMMARY:Festival of Jagannatha Misra
DESCRIPTION:Festival of Jagannatha Misra
URL:https://iskcondumdum.com/event/festival-of-jagannatha-misra/
CATEGORIES:Festival
END:VEVENT
BEGIN:VEVENT
DTSTART;TZID=UTC:20250314T000000
DTEND;TZID=UTC:20250314T000000
DTSTAMP:20260421T232141
CREATED:20251017T163813Z
LAST-MODIFIED:20251017T163814Z
UID:1858-1741910400-1741910400@iskcondumdum.com
SUMMARY:Gaura Purnima - Appearance of Sri Gauranga Mahaprabhu
DESCRIPTION:Gaura Purnima – Appearance of Sri Gauranga Mahaprabhu
URL:https://iskcondumdum.com/event/gaura-purnima-appearance-of-sri-gauranga-mahaprabhu/
CATEGORIES:Festival
END:VEVENT
BEGIN:VEVENT
DTSTART;TZID=UTC:20250311T000000
DTEND;TZID=UTC:20250311T000000
DTSTAMP:20260421T232141
CREATED:20251016T214320Z
LAST-MODIFIED:20251017T163814Z
UID:1400-1741651200-1741651200@iskcondumdum.com
SUMMARY:Disappearance of Sri Madhavendra Puri
DESCRIPTION:Disappearance of Sri Madhavendra Puri
URL:https://iskcondumdum.com/event/disappearance-of-sri-madhavendra-puri/
CATEGORIES:Appearance & Disappearance
END:VEVENT
BEGIN:VEVENT
DTSTART;TZID=UTC:20250310T000000
DTEND;TZID=UTC:20250310T000000
DTSTAMP:20260421T232141
CREATED:20251016T214320Z
LAST-MODIFIED:20251017T163814Z
UID:1399-1741564800-1741564800@iskcondumdum.com
SUMMARY:Amalaki Vrata Ekadashi
DESCRIPTION:Amalaki Vrata Ekadashi
URL:https://iskcondumdum.com/event/amalaki-vrata-ekadashi/
CATEGORIES:Festival
END:VEVENT
BEGIN:VEVENT
DTSTART;TZID=UTC:20250303T000000
DTEND;TZID=UTC:20250303T000000
DTSTAMP:20260421T232141
CREATED:20251017T163813Z
LAST-MODIFIED:20251017T163814Z
UID:1857-1740960000-1740960000@iskcondumdum.com
SUMMARY:Appearance Day of Sri Purusottama Dasa Thakura
DESCRIPTION:Appearance Day of Sri Purusottama Dasa Thakura
URL:https://iskcondumdum.com/event/appearance-day-of-sri-purusottama-dasa-thakura/
CATEGORIES:Festival
END:VEVENT
BEGIN:VEVENT
DTSTART;TZID=UTC:20250228T000000
DTEND;TZID=UTC:20250228T000000
DTSTAMP:20260421T232141
CREATED:20251017T163813Z
LAST-MODIFIED:20251017T163813Z
UID:1855-1740700800-1740700800@iskcondumdum.com
SUMMARY:Disappearance Day of Srila Jagannatha Dasa Babaji
DESCRIPTION:Disappearance Day of Srila Jagannatha Dasa Babaji
URL:https://iskcondumdum.com/event/disappearance-day-of-srila-jagannatha-dasa-babaji/
CATEGORIES:Appearance & Disappearance
END:VEVENT
BEGIN:VEVENT
DTSTART;TZID=UTC:20250228T000000
DTEND;TZID=UTC:20250228T000000
DTSTAMP:20260421T232141
CREATED:20251017T163813Z
LAST-MODIFIED:20251017T163814Z
UID:1856-1740700800-1740700800@iskcondumdum.com
SUMMARY:Disappearance Day of Sri Rasikananda
DESCRIPTION:Disappearance Day of Sri Rasikananda
URL:https://iskcondumdum.com/event/disappearance-day-of-sri-rasikananda/
CATEGORIES:Appearance & Disappearance
END:VEVENT
BEGIN:VEVENT
DTSTART;TZID=UTC:20250227T000000
DTEND;TZID=UTC:20250227T000000
DTSTAMP:20260421T232141
CREATED:20251016T214317Z
LAST-MODIFIED:20251017T163813Z
UID:1395-1740614400-1740614400@iskcondumdum.com
SUMMARY:Siva Ratri
DESCRIPTION:Siva Ratri
URL:https://iskcondumdum.com/event/siva-ratri/
CATEGORIES:Festival
END:VEVENT
BEGIN:VEVENT
DTSTART;TZID=UTC:20250225T000000
DTEND;TZID=UTC:20250225T000000
DTSTAMP:20260421T232141
CREATED:20251017T163813Z
LAST-MODIFIED:20251017T163813Z
UID:1854-1740441600-1740441600@iskcondumdum.com
SUMMARY:Disappearance Day of Sri Isvara Puri
DESCRIPTION:Disappearance Day of Sri Isvara Puri
URL:https://iskcondumdum.com/event/disappearance-day-of-sri-isvara-puri/
CATEGORIES:Appearance & Disappearance
END:VEVENT
BEGIN:VEVENT
DTSTART;TZID=UTC:20250224T000000
DTEND;TZID=UTC:20250224T000000
DTSTAMP:20260421T232141
CREATED:20251016T214317Z
LAST-MODIFIED:20251017T163813Z
UID:1393-1740355200-1740355200@iskcondumdum.com
SUMMARY:Vijaya Ekadashi
DESCRIPTION:Vijaya Ekadashi
URL:https://iskcondumdum.com/event/vijaya-ekadashi/
CATEGORIES:Festival
END:VEVENT
BEGIN:VEVENT
DTSTART;TZID=UTC:20250217T000000
DTEND;TZID=UTC:20250217T000000
DTSTAMP:20260421T232141
CREATED:20251017T163813Z
LAST-MODIFIED:20251017T163813Z
UID:1853-1739750400-1739750400@iskcondumdum.com
SUMMARY:Disappearance Day of Srila Gour Govinda Swami
DESCRIPTION:Disappearance Day of Srila Gour Govinda Swami
URL:https://iskcondumdum.com/event/disappearance-day-of-srila-gour-govinda-swami/
CATEGORIES:Appearance & Disappearance
END:VEVENT
BEGIN:VEVENT
DTSTART;TZID=UTC:20250217T000000
DTEND;TZID=UTC:20250217T000000
DTSTAMP:20260421T232141
CREATED:20251017T163800Z
LAST-MODIFIED:20251017T163800Z
UID:1852-1739750400-1739750400@iskcondumdum.com
SUMMARY:Disappearance Day of Sri Purusottama Dasa Thakura
DESCRIPTION:Disappearance Day of Sri Purusottama Dasa Thakura
URL:https://iskcondumdum.com/event/disappearance-day-of-sri-purusottama-dasa-thakura/
CATEGORIES:Appearance & Disappearance
END:VEVENT
BEGIN:VEVENT
DTSTART;TZID=UTC:20250217T000000
DTEND;TZID=UTC:20250217T000000
DTSTAMP:20260421T232141
CREATED:20251017T163800Z
LAST-MODIFIED:20251017T163800Z
UID:1851-1739750400-1739750400@iskcondumdum.com
SUMMARY:Appearance Day of Srila Bhaktisiddhanta Sarasvati Thakura
DESCRIPTION:Appearance Day of Srila Bhaktisiddhanta Sarasvati Thakura
URL:https://iskcondumdum.com/event/appearance-day-of-srila-bhaktisiddhanta-sarasvati-thakura/
CATEGORIES:Festival
END:VEVENT
BEGIN:VEVENT
DTSTART;TZID=UTC:20250212T000000
DTEND;TZID=UTC:20250212T000000
DTSTAMP:20260421T232141
CREATED:20251017T163800Z
LAST-MODIFIED:20251017T163800Z
UID:1850-1739318400-1739318400@iskcondumdum.com
SUMMARY:Appearance Day of Srila Narottama Dasa Thakura
DESCRIPTION:Appearance Day of Srila Narottama Dasa Thakura
URL:https://iskcondumdum.com/event/appearance-day-of-srila-narottama-dasa-thakura/
CATEGORIES:Festival
END:VEVENT
BEGIN:VEVENT
DTSTART;TZID=UTC:20250212T000000
DTEND;TZID=UTC:20250212T000000
DTSTAMP:20260421T232141
CREATED:20251016T214304Z
LAST-MODIFIED:20251017T163800Z
UID:1388-1739318400-1739318400@iskcondumdum.com
SUMMARY:Sri Krishna Madhura Utsava
DESCRIPTION:Sri Krishna Madhura Utsava
URL:https://iskcondumdum.com/event/sri-krishna-madhura-utsava/
CATEGORIES:Festival
END:VEVENT
BEGIN:VEVENT
DTSTART;TZID=UTC:20250210T000000
DTEND;TZID=UTC:20250210T000000
DTSTAMP:20260421T232141
CREATED:20251017T163800Z
LAST-MODIFIED:20251017T163800Z
UID:1849-1739145600-1739145600@iskcondumdum.com
SUMMARY:Nityananda Trayodasi - Appearance Day of Nityananda
DESCRIPTION:Nityananda Trayodasi – Appearance Day of Nityananda
URL:https://iskcondumdum.com/event/nityananda-trayodasi-appearance-day-of-nityananda/
CATEGORIES:Festival
END:VEVENT
BEGIN:VEVENT
DTSTART;TZID=UTC:20250209T000000
DTEND;TZID=UTC:20250209T000000
DTSTAMP:20260421T232141
CREATED:20251016T214248Z
LAST-MODIFIED:20251017T163744Z
UID:1386-1739059200-1739059200@iskcondumdum.com
SUMMARY:Varaha Dvadasi
DESCRIPTION:Varaha Dvadasi
URL:https://iskcondumdum.com/event/varaha-dvadasi/
CATEGORIES:Festival
END:VEVENT
BEGIN:VEVENT
DTSTART;TZID=UTC:20250208T000000
DTEND;TZID=UTC:20250208T000000
DTSTAMP:20260421T232141
CREATED:20251016T214248Z
LAST-MODIFIED:20251017T163744Z
UID:1385-1738972800-1738972800@iskcondumdum.com
SUMMARY:Bhaimi Ekadashi
DESCRIPTION:Bhaimi Ekadashi
URL:https://iskcondumdum.com/event/bhaimi-ekadashi/
CATEGORIES:Festival
END:VEVENT
BEGIN:VEVENT
DTSTART;TZID=UTC:20250207T000000
DTEND;TZID=UTC:20250207T000000
DTSTAMP:20260421T232141
CREATED:20251017T163744Z
LAST-MODIFIED:20251017T163744Z
UID:1848-1738886400-1738886400@iskcondumdum.com
SUMMARY:Disappearance Day of Sri Ramanujacharya
DESCRIPTION:Disappearance Day of Sri Ramanujacharya
URL:https://iskcondumdum.com/event/disappearance-day-of-sri-ramanujacharya/
CATEGORIES:Appearance & Disappearance
END:VEVENT
BEGIN:VEVENT
DTSTART;TZID=UTC:20250206T000000
DTEND;TZID=UTC:20250206T000000
DTSTAMP:20260421T232141
CREATED:20251017T163744Z
LAST-MODIFIED:20251017T163744Z
UID:1847-1738800000-1738800000@iskcondumdum.com
SUMMARY:Disappearance Day of Sri Madhvacharya
DESCRIPTION:Disappearance Day of Sri Madhvacharya
URL:https://iskcondumdum.com/event/disappearance-day-of-sri-madhvacharya/
CATEGORIES:Appearance & Disappearance
END:VEVENT
BEGIN:VEVENT
DTSTART;TZID=UTC:20250205T000000
DTEND;TZID=UTC:20250205T000000
DTSTAMP:20260421T232141
CREATED:20251016T214232Z
LAST-MODIFIED:20251017T163744Z
UID:1382-1738713600-1738713600@iskcondumdum.com
SUMMARY:Bhismastami
DESCRIPTION:Bhismastami
URL:https://iskcondumdum.com/event/bhismastami/
CATEGORIES:Festival
END:VEVENT
BEGIN:VEVENT
DTSTART;TZID=UTC:20250204T000000
DTEND;TZID=UTC:20250204T000000
DTSTAMP:20260421T232141
CREATED:20251017T163728Z
LAST-MODIFIED:20251017T163728Z
UID:1846-1738627200-1738627200@iskcondumdum.com
SUMMARY:Appearance Day of Sri Advaita Acharya
DESCRIPTION:Appearance Day of Sri Advaita Acharya
URL:https://iskcondumdum.com/event/appearance-day-of-sri-advaita-acharya/
CATEGORIES:Festival
END:VEVENT
BEGIN:VEVENT
DTSTART;TZID=UTC:20250203T000000
DTEND;TZID=UTC:20250203T000000
DTSTAMP:20260421T232141
CREATED:20251017T163728Z
LAST-MODIFIED:20251017T163728Z
UID:1842-1738540800-1738540800@iskcondumdum.com
SUMMARY:Disappearance Day of Srila Visvanatha Cakravarti Thakura
DESCRIPTION:Disappearance Day of Srila Visvanatha Cakravarti Thakura
URL:https://iskcondumdum.com/event/disappearance-day-of-srila-visvanatha-cakravarti-thakura/
CATEGORIES:Appearance & Disappearance
END:VEVENT
BEGIN:VEVENT
DTSTART;TZID=UTC:20250203T000000
DTEND;TZID=UTC:20250203T000000
DTSTAMP:20260421T232141
CREATED:20251017T163728Z
LAST-MODIFIED:20251017T163728Z
UID:1843-1738540800-1738540800@iskcondumdum.com
SUMMARY:Appearance Day of Sri Pundarika Vidyanidhi
DESCRIPTION:Appearance Day of Sri Pundarika Vidyanidhi
URL:https://iskcondumdum.com/event/appearance-day-of-sri-pundarika-vidyanidhi/
CATEGORIES:Festival
END:VEVENT
BEGIN:VEVENT
DTSTART;TZID=UTC:20250203T000000
DTEND;TZID=UTC:20250203T000000
DTSTAMP:20260421T232141
CREATED:20251017T163728Z
LAST-MODIFIED:20251017T163728Z
UID:1844-1738540800-1738540800@iskcondumdum.com
SUMMARY:Appearance Day of Sri Raghunandan Thakura
DESCRIPTION:Appearance Day of Sri Raghunandan Thakura
URL:https://iskcondumdum.com/event/appearance-day-of-sri-raghunandan-thakura/
CATEGORIES:Festival
END:VEVENT
BEGIN:VEVENT
DTSTART;TZID=UTC:20250203T000000
DTEND;TZID=UTC:20250203T000000
DTSTAMP:20260421T232141
CREATED:20251017T163728Z
LAST-MODIFIED:20251017T163728Z
UID:1845-1738540800-1738540800@iskcondumdum.com
SUMMARY:Appearance Day of Srila Raghunatha Dasa Goswami
DESCRIPTION:Appearance Day of Srila Raghunatha Dasa Goswami
URL:https://iskcondumdum.com/event/appearance-day-of-srila-raghunatha-dasa-goswami/
CATEGORIES:Festival
END:VEVENT
BEGIN:VEVENT
DTSTART;TZID=UTC:20250203T000000
DTEND;TZID=UTC:20250203T000000
DTSTAMP:20260421T232141
CREATED:20251017T163712Z
LAST-MODIFIED:20251017T163712Z
UID:1841-1738540800-1738540800@iskcondumdum.com
SUMMARY:Appearance Day of Srimati Vishnupriya Devi
DESCRIPTION:Appearance Day of Srimati Vishnupriya Devi
URL:https://iskcondumdum.com/event/appearance-day-of-srimati-vishnupriya-devi/
CATEGORIES:Festival
END:VEVENT
BEGIN:VEVENT
DTSTART;TZID=UTC:20250203T000000
DTEND;TZID=UTC:20250203T000000
DTSTAMP:20260421T232141
CREATED:20251016T214216Z
LAST-MODIFIED:20251017T163712Z
UID:1374-1738540800-1738540800@iskcondumdum.com
SUMMARY:Vasanta Pancami
DESCRIPTION:Vasanta Pancami
URL:https://iskcondumdum.com/event/vasanta-pancami/
CATEGORIES:Festival
END:VEVENT
BEGIN:VEVENT
DTSTART;TZID=UTC:20250203T000000
DTEND;TZID=UTC:20250203T000000
DTSTAMP:20260421T232141
CREATED:20251016T214216Z
LAST-MODIFIED:20251017T163713Z
UID:1376-1738540800-1738540800@iskcondumdum.com
SUMMARY:Sarasvati Puja
DESCRIPTION:Sarasvati Puja
URL:https://iskcondumdum.com/event/sarasvati-puja/
CATEGORIES:Festival
END:VEVENT
BEGIN:VEVENT
DTSTART;TZID=UTC:20250125T000000
DTEND;TZID=UTC:20250125T000000
DTSTAMP:20260421T232141
CREATED:20251016T214216Z
LAST-MODIFIED:20251017T163712Z
UID:1373-1737763200-1737763200@iskcondumdum.com
SUMMARY:Sat-tila Ekadashi
DESCRIPTION:Sat-tila Ekadashi
URL:https://iskcondumdum.com/event/sat-tila-ekadashi/
CATEGORIES:Festival
END:VEVENT
END:VCALENDAR