BEGIN:VCALENDAR
VERSION:2.0
PRODID:-//ISKCON DumDum - ECPv6.15.13//NONSGML v1.0//EN
CALSCALE:GREGORIAN
METHOD:PUBLISH
X-WR-CALNAME:ISKCON DumDum
X-ORIGINAL-URL:https://iskcondumdum.com
X-WR-CALDESC:Events for ISKCON DumDum
REFRESH-INTERVAL;VALUE=DURATION:PT1H
X-Robots-Tag:noindex
X-PUBLISHED-TTL:PT1H
BEGIN:VTIMEZONE
TZID:UTC
BEGIN:STANDARD
TZOFFSETFROM:+0000
TZOFFSETTO:+0000
TZNAME:UTC
DTSTART:20250101T000000
END:STANDARD
END:VTIMEZONE
BEGIN:VEVENT
DTSTART;TZID=UTC:20260925T000000
DTEND;TZID=UTC:20260925T000000
DTSTAMP:20260419T141926
CREATED:20251017T165414Z
LAST-MODIFIED:20251017T165414Z
UID:2125-1790294400-1790294400@iskcondumdum.com
SUMMARY:Srila Haridasa Thakura — Disappearance
DESCRIPTION:Srila Haridasa Thakura — Disappearance
URL:https://iskcondumdum.com/event/srila-haridasa-thakura-disappearance/
CATEGORIES:Appearance & Disappearance
END:VEVENT
BEGIN:VEVENT
DTSTART;TZID=UTC:20260925T000000
DTEND;TZID=UTC:20260925T000000
DTSTAMP:20260419T141926
CREATED:20251017T165414Z
LAST-MODIFIED:20251017T165414Z
UID:2126-1790294400-1790294400@iskcondumdum.com
SUMMARY:The end of the second month of Chaturmasya
DESCRIPTION:The end of the second month of Chaturmasya
URL:https://iskcondumdum.com/event/the-end-of-the-second-month-of-chaturmasya/
CATEGORIES:Festival
END:VEVENT
BEGIN:VEVENT
DTSTART;TZID=UTC:20260925T000000
DTEND;TZID=UTC:20260925T000000
DTSTAMP:20260419T141926
CREATED:20251017T165414Z
LAST-MODIFIED:20251017T165414Z
UID:2124-1790294400-1790294400@iskcondumdum.com
SUMMARY:Ananta Caturdasi Vrata
DESCRIPTION:Ananta Caturdasi Vrata
URL:https://iskcondumdum.com/event/ananta-caturdasi-vrata-2/
CATEGORIES:Festival
END:VEVENT
BEGIN:VEVENT
DTSTART;TZID=UTC:20260926T000000
DTEND;TZID=UTC:20260926T000000
DTSTAMP:20260419T141926
CREATED:20251017T165414Z
LAST-MODIFIED:20251017T165414Z
UID:2127-1790380800-1790380800@iskcondumdum.com
SUMMARY:Sri Visvarupa Mahotsava
DESCRIPTION:Sri Visvarupa Mahotsava
URL:https://iskcondumdum.com/event/sri-visvarupa-mahotsava-2/
CATEGORIES:Festival
END:VEVENT
END:VCALENDAR