BEGIN:VCALENDAR
VERSION:2.0
PRODID:-//ISKCON DumDum - ECPv6.15.13//NONSGML v1.0//EN
CALSCALE:GREGORIAN
METHOD:PUBLISH
X-ORIGINAL-URL:https://iskcondumdum.com
X-WR-CALDESC:Events for ISKCON DumDum
REFRESH-INTERVAL;VALUE=DURATION:PT1H
X-Robots-Tag:noindex
X-PUBLISHED-TTL:PT1H
BEGIN:VTIMEZONE
TZID:UTC
BEGIN:STANDARD
TZOFFSETFROM:+0000
TZOFFSETTO:+0000
TZNAME:UTC
DTSTART:20250101T000000
END:STANDARD
END:VTIMEZONE
BEGIN:VEVENT
DTSTART;TZID=UTC:20260922T000000
DTEND;TZID=UTC:20260922T000000
DTSTAMP:20260419T142622
CREATED:20251017T165344Z
LAST-MODIFIED:20251017T165344Z
UID:2116-1790035200-1790035200@iskcondumdum.com
SUMMARY:Fasting for Parsva Ekadasi
DESCRIPTION:Fasting for Parsva Ekadasi
URL:https://iskcondumdum.com/event/fasting-for-parsva-ekadasi/
CATEGORIES:Festival
END:VEVENT
BEGIN:VEVENT
DTSTART;TZID=UTC:20260923T000000
DTEND;TZID=UTC:20260923T000000
DTSTAMP:20260419T142622
CREATED:20251017T165359Z
LAST-MODIFIED:20251017T165359Z
UID:2118-1790121600-1790121600@iskcondumdum.com
SUMMARY:Break the fast from 05:25 to 09:27
DESCRIPTION:Break the fast from 05:25 to 09:27
URL:https://iskcondumdum.com/event/break-the-fast-from-0525-to-0927/
CATEGORIES:Festival
END:VEVENT
BEGIN:VEVENT
DTSTART;TZID=UTC:20260923T000000
DTEND;TZID=UTC:20260923T000000
DTSTAMP:20260419T142622
CREATED:20251017T165359Z
LAST-MODIFIED:20251017T165359Z
UID:2119-1790121600-1790121600@iskcondumdum.com
SUMMARY:Sri Vamana Dvadasi: Appearance of Lord Vamanadeva
DESCRIPTION:Sri Vamana Dvadasi: Appearance of Lord Vamanadeva
URL:https://iskcondumdum.com/event/sri-vamana-dvadasi-appearance-of-lord-vamanadeva/
CATEGORIES:Festival
END:VEVENT
BEGIN:VEVENT
DTSTART;TZID=UTC:20260923T000000
DTEND;TZID=UTC:20260923T000000
DTSTAMP:20260419T142622
CREATED:20251017T165359Z
LAST-MODIFIED:20251017T165359Z
UID:2120-1790121600-1790121600@iskcondumdum.com
SUMMARY:Fasting is done yesterday\, today is feast
DESCRIPTION:Fasting is done yesterday\, today is feast
URL:https://iskcondumdum.com/event/fasting-is-done-yesterday-today-is-feast-2/
CATEGORIES:Festival
END:VEVENT
BEGIN:VEVENT
DTSTART;TZID=UTC:20260923T000000
DTEND;TZID=UTC:20260923T000000
DTSTAMP:20260419T142622
CREATED:20251017T165359Z
LAST-MODIFIED:20251017T165359Z
UID:2121-1790121600-1790121600@iskcondumdum.com
SUMMARY:Srila Jiva Gosvami — Appearance
DESCRIPTION:Srila Jiva Gosvami — Appearance
URL:https://iskcondumdum.com/event/srila-jiva-gosvami-appearance/
CATEGORIES:Festival
END:VEVENT
BEGIN:VEVENT
DTSTART;TZID=UTC:20260924T000000
DTEND;TZID=UTC:20260924T000000
DTSTAMP:20260419T142622
CREATED:20251017T165359Z
LAST-MODIFIED:20251017T165359Z
UID:2122-1790208000-1790208000@iskcondumdum.com
SUMMARY:Srila Bhaktivinoda Thakura — Appearance
DESCRIPTION:Srila Bhaktivinoda Thakura — Appearance
URL:https://iskcondumdum.com/event/srila-bhaktivinoda-thakura-appearance/
CATEGORIES:Festival
END:VEVENT
BEGIN:VEVENT
DTSTART;TZID=UTC:20260924T000000
DTEND;TZID=UTC:20260924T000000
DTSTAMP:20260419T142622
CREATED:20251017T165414Z
LAST-MODIFIED:20251017T165414Z
UID:2123-1790208000-1790208000@iskcondumdum.com
SUMMARY:Fast till noon
DESCRIPTION:Fast till noon
URL:https://iskcondumdum.com/event/fast-till-noon-10/
CATEGORIES:Festival
END:VEVENT
BEGIN:VEVENT
DTSTART;TZID=UTC:20260925T000000
DTEND;TZID=UTC:20260925T000000
DTSTAMP:20260419T142622
CREATED:20251017T165414Z
LAST-MODIFIED:20251017T165414Z
UID:2124-1790294400-1790294400@iskcondumdum.com
SUMMARY:Ananta Caturdasi Vrata
DESCRIPTION:Ananta Caturdasi Vrata
URL:https://iskcondumdum.com/event/ananta-caturdasi-vrata-2/
CATEGORIES:Festival
END:VEVENT
BEGIN:VEVENT
DTSTART;TZID=UTC:20260925T000000
DTEND;TZID=UTC:20260925T000000
DTSTAMP:20260419T142622
CREATED:20251017T165414Z
LAST-MODIFIED:20251017T165414Z
UID:2125-1790294400-1790294400@iskcondumdum.com
SUMMARY:Srila Haridasa Thakura — Disappearance
DESCRIPTION:Srila Haridasa Thakura — Disappearance
URL:https://iskcondumdum.com/event/srila-haridasa-thakura-disappearance/
CATEGORIES:Appearance & Disappearance
END:VEVENT
BEGIN:VEVENT
DTSTART;TZID=UTC:20260925T000000
DTEND;TZID=UTC:20260925T000000
DTSTAMP:20260419T142622
CREATED:20251017T165414Z
LAST-MODIFIED:20251017T165414Z
UID:2126-1790294400-1790294400@iskcondumdum.com
SUMMARY:The end of the second month of Chaturmasya
DESCRIPTION:The end of the second month of Chaturmasya
URL:https://iskcondumdum.com/event/the-end-of-the-second-month-of-chaturmasya/
CATEGORIES:Festival
END:VEVENT
BEGIN:VEVENT
DTSTART;TZID=UTC:20260926T000000
DTEND;TZID=UTC:20260926T000000
DTSTAMP:20260419T142622
CREATED:20251017T165414Z
LAST-MODIFIED:20251017T165414Z
UID:2127-1790380800-1790380800@iskcondumdum.com
SUMMARY:Sri Visvarupa Mahotsava
DESCRIPTION:Sri Visvarupa Mahotsava
URL:https://iskcondumdum.com/event/sri-visvarupa-mahotsava-2/
CATEGORIES:Festival
END:VEVENT
END:VCALENDAR